BEGIN:VCALENDAR
VERSION:2.0
PRODID:-//Sociedad de Neurocirugía de Chile - ECPv6.15.20//NONSGML v1.0//EN
CALSCALE:GREGORIAN
METHOD:PUBLISH
X-ORIGINAL-URL:https://www.neurocirugiachile.org
X-WR-CALDESC:Eventos para Sociedad de Neurocirugía de Chile
REFRESH-INTERVAL;VALUE=DURATION:PT1H
X-Robots-Tag:noindex
X-PUBLISHED-TTL:PT1H
BEGIN:VTIMEZONE
TZID:America/Santiago
BEGIN:STANDARD
TZOFFSETFROM:-0300
TZOFFSETTO:-0400
TZNAME:-04
DTSTART:20250406T030000
END:STANDARD
BEGIN:DAYLIGHT
TZOFFSETFROM:-0400
TZOFFSETTO:-0300
TZNAME:-03
DTSTART:20250907T040000
END:DAYLIGHT
BEGIN:STANDARD
TZOFFSETFROM:-0300
TZOFFSETTO:-0400
TZNAME:-04
DTSTART:20260405T030000
END:STANDARD
BEGIN:DAYLIGHT
TZOFFSETFROM:-0400
TZOFFSETTO:-0300
TZNAME:-03
DTSTART:20260906T040000
END:DAYLIGHT
BEGIN:STANDARD
TZOFFSETFROM:-0300
TZOFFSETTO:-0400
TZNAME:-04
DTSTART:20270404T030000
END:STANDARD
BEGIN:DAYLIGHT
TZOFFSETFROM:-0400
TZOFFSETTO:-0300
TZNAME:-03
DTSTART:20270905T040000
END:DAYLIGHT
END:VTIMEZONE
BEGIN:VEVENT
DTSTART;VALUE=DATE:20260511
DTEND;VALUE=DATE:20260516
DTSTAMP:20260423T140015
CREATED:20251022T213202Z
LAST-MODIFIED:20251022T213202Z
UID:5063-1778457600-1778889599@www.neurocirugiachile.org
SUMMARY:ISSLS/SASS Annual Meeting 2026
DESCRIPTION:Dear Colleagues\,\nDear Friends\, \nWe would kindly like to remind that the abstract submission deadline for ISSLS/SASS Annual Meeting 2026 is now rapidly approaching.  \nThe Meeting will take place at the Westin Cape Town from 11 – 15 May 2026. For this edition we will be joined by all members of the South African Spine Society. \nConference registration\, abstract  submission platform and hotel accommodation are open. Please find more information below.  \nTogether with the Organising Committee we look forward to welcoming many of you to Cape Town from 11- 15 May 2026! \nYours sincerely\,\nLocal hosts\,\nIan Vlok & Robert Gunzburg
URL:https://www.neurocirugiachile.org/evento/issls-sass-annual-meeting-2026/
CATEGORIES:Internacionales
ATTACH;FMTTYPE=image/png:https://www.neurocirugiachile.org/wp-content/uploads/2025/10/sass2026.png
END:VEVENT
END:VCALENDAR