BEGIN:VCALENDAR
VERSION:2.0
PRODID:-//Sociedad de Neurocirugía de Chile - ECPv6.15.20//NONSGML v1.0//EN
CALSCALE:GREGORIAN
METHOD:PUBLISH
X-WR-CALNAME:Sociedad de Neurocirugía de Chile
X-ORIGINAL-URL:https://www.neurocirugiachile.org
X-WR-CALDESC:Eventos para Sociedad de Neurocirugía de Chile
REFRESH-INTERVAL;VALUE=DURATION:PT1H
X-Robots-Tag:noindex
X-PUBLISHED-TTL:PT1H
BEGIN:VTIMEZONE
TZID:America/Santiago
BEGIN:STANDARD
TZOFFSETFROM:-0300
TZOFFSETTO:-0400
TZNAME:-04
DTSTART:20250406T030000
END:STANDARD
BEGIN:DAYLIGHT
TZOFFSETFROM:-0400
TZOFFSETTO:-0300
TZNAME:-03
DTSTART:20250907T040000
END:DAYLIGHT
BEGIN:STANDARD
TZOFFSETFROM:-0300
TZOFFSETTO:-0400
TZNAME:-04
DTSTART:20260405T030000
END:STANDARD
BEGIN:DAYLIGHT
TZOFFSETFROM:-0400
TZOFFSETTO:-0300
TZNAME:-03
DTSTART:20260906T040000
END:DAYLIGHT
BEGIN:STANDARD
TZOFFSETFROM:-0300
TZOFFSETTO:-0400
TZNAME:-04
DTSTART:20270404T030000
END:STANDARD
BEGIN:DAYLIGHT
TZOFFSETFROM:-0400
TZOFFSETTO:-0300
TZNAME:-03
DTSTART:20270905T040000
END:DAYLIGHT
END:VTIMEZONE
BEGIN:VEVENT
DTSTART;VALUE=DATE:20260901
DTEND;VALUE=DATE:20260903
DTSTAMP:20260423T180023
CREATED:20260304T205453Z
LAST-MODIFIED:20260304T205453Z
UID:5367-1788220800-1788393599@www.neurocirugiachile.org
SUMMARY:13th Annual EANS Vascular Section Meeting (Marseille\, France)
DESCRIPTION:Following the success of the previous annual meetings\, on behalf of the Committee Panel of the EANS Vascular Section we invite you to participate in the 13th Annual EANS Vascular Section Meeting\, which will take place in Marseille\, from Tuesday 1st to Wednesday 2nd of September 2026. \nCome and participate in a truly interdisciplinary platform for neurosurgeons\, neurointerventionalists\, neuroradiologists\, neurologists\, and others who are interested in the treatment of cerebrovascular diseases. \nOur aim is to offer scientific analysis of the highest quality within a friendly and collaborative atmosphere. \nThe meeting is being held in conjunction with the annual ESMINT Congress. Joint EANS/ESMINT sessions\, also featuring a number of prominent speakers from both Europe and the US\, will be organised again. \nWe encourage as many as possible of you to support and attend this joint meeting as well! \nTo provide a platform for as many as possible of our members to present their own work\, the majority of the programme will again be devoted to oral presentations of submitted abstracts and to plenary discussions. \nSubmissions on all aspects of vascular neurosurgery are now open!\nAbstract submission deadline: 5 April 2026. \nLearn more and submit your abstract \n 
URL:https://www.neurocirugiachile.org/evento/13th-annual-eans-vascular-section-meeting-marseille-france/
ATTACH;FMTTYPE=image/jpeg:https://www.neurocirugiachile.org/wp-content/uploads/2026/03/2026vascularwebMarseilleFrance-scaled.jpg
END:VEVENT
END:VCALENDAR