BEGIN:VCALENDAR
VERSION:2.0
PRODID:-//Sociedad de Neurocirugía de Chile - ECPv6.15.20//NONSGML v1.0//EN
CALSCALE:GREGORIAN
METHOD:PUBLISH
X-ORIGINAL-URL:https://www.neurocirugiachile.org
X-WR-CALDESC:Eventos para Sociedad de Neurocirugía de Chile
REFRESH-INTERVAL;VALUE=DURATION:PT1H
X-Robots-Tag:noindex
X-PUBLISHED-TTL:PT1H
BEGIN:VTIMEZONE
TZID:America/Santiago
BEGIN:STANDARD
TZOFFSETFROM:-0300
TZOFFSETTO:-0400
TZNAME:-04
DTSTART:20240407T030000
END:STANDARD
BEGIN:DAYLIGHT
TZOFFSETFROM:-0400
TZOFFSETTO:-0300
TZNAME:-03
DTSTART:20240908T040000
END:DAYLIGHT
BEGIN:STANDARD
TZOFFSETFROM:-0300
TZOFFSETTO:-0400
TZNAME:-04
DTSTART:20250406T030000
END:STANDARD
BEGIN:DAYLIGHT
TZOFFSETFROM:-0400
TZOFFSETTO:-0300
TZNAME:-03
DTSTART:20250907T040000
END:DAYLIGHT
BEGIN:STANDARD
TZOFFSETFROM:-0300
TZOFFSETTO:-0400
TZNAME:-04
DTSTART:20260405T030000
END:STANDARD
BEGIN:DAYLIGHT
TZOFFSETFROM:-0400
TZOFFSETTO:-0300
TZNAME:-03
DTSTART:20260906T040000
END:DAYLIGHT
END:VTIMEZONE
BEGIN:VEVENT
DTSTART;VALUE=DATE:20250503
DTEND;VALUE=DATE:20250506
DTSTAMP:20260424T031359
CREATED:20250228T230837Z
LAST-MODIFIED:20250228T231052Z
UID:4422-1746230400-1746489599@www.neurocirugiachile.org
SUMMARY:14th Annual EANS Young Neurosurgeons’ Meeting and Research Course
DESCRIPTION:REGISTRATION IS OPEN! \nWe are glad to inform you that the registration for the 14th Annual EANS Young Neurosurgeons’ Meeting and Research Course\,  taking place in Sicily\, Italy\, on 3-5 May 2025\, is now open! \nJoin us to explore the latest state-of-the-art advancements\, challenges\, and controversies in Skull Base and Neuro-oncology (Brain and Spine). Engage in thought-provoking discussions with senior experts in the field. On 4 May\, we will also host a parallel European Symposium dedicated to the innovative applications of nTMS in Neurosurgery. \nThe meeting will feature interactive sessions where participants will be able to explore with EANS experts and their young peers the most effective and up-to-date management techniques of specific cases. \nRegistration is also open for the 5 pre-meeting hands-on workshops\, taking place on 3 May. These workshops boast cutting-edge technologies\, including VR\, to enhance the training experience of the delagates: \n\nMicrosurgical resection of Brain Tumors\nEndoscopic Endonasal Trans-sphenoidal surgery\nEndoscopic Spine surgery\nAdvanced decompression and instrumentation in Spinal Oncology\, and\nMicrovascular Sutures and Bypass.\n\n\n\n\n\n\n\n\n\n\n\n\n\n  \n\n\n\n\n\n\n\nLEARN MORE AND REGISTER HERE \n\n\n\n\n\n\n\n\n\n\n\n\n\n\n\n\n\n\nAbstract submission is open! \nMoreover\, in our effort to make Young Neurosurgeons the true protagonists of this meeting\, you can now submit your abstracts and your videos on the following topics: \n1. Skull Base:  \n\nNeuroanatomy in Skull Base surgery\nSkull Base approaches to Anterior/Middle/Posterior Cranial Fossa\nSkull Base approaches to Craniovertebral Junction\nIONM in Skull Base surgery\nSurgical treatment of Skull Base Lesions\nEndoscopic treatment of Skull Base Lesions\nModern technologies in Skull Base surgery (including VR\, AR\, MR)\nComplications and controversies in Skull Base surgery\n\n2. Neuro-oncology (Brain) \n\nFunctional neuroanatomy in Brain Neuro-oncology\nBrain connectivity in Brain Neuro-oncology\nSurgical treatment of Brain Tumors (gliomas\, metastases\, others)\nAwake Surgery\nIONM in Brain Tumor surgery\nNon-surgical treatment of Brain Tumors\nModern technologies in Brain Neuro-oncology (including VR\, AR\, MR)\nComplications and controversies in Brain Neuro-oncology\n\n3. Neuro-oncology (Spine): \n\nPrimary Spine Tumors\nIntradural intramedullary Spine Tumors\nIntradural extramedullary Spine Tumors\nMetastatic Spine Tumors\nMinimally invasive surgery for Spine Tumors\nIONM in Spinal Tumor surgery\nNon-surgical treatment of Spine Tumors (radiofrequency ablation\, RT\, etc.)\nComplications and controversies in Spine Oncology\nModern technologies in Spine Neuro-oncology (including VR\, AR\, MR)\nRobotic Spine surgery\n\n4. nTMS Symposium: \n\nnTMS motor mapping\nnTMS language mapping\nnTMS mapping of complex functions\nWhite matter tractography\nnTMS-based preoperative planning for risk stratification\nnTMS-based neuromodulation\nOther nTMS applications in Neurosurgery\n\nThe best abstracts and videos will be selected for presentation in dedicated oral sessions\, where the presenting authors will have the opportunity to present their work in-depth. The remaining abstracts will be showcased during specific oral E-poster sessions.\n\n\n\n\n\n\n\n\n\n\n\n\n\n\n\n\n\n\n\n\n\n\nAbstract and video submission deadline: 27 February 2025. \nDon’t miss out on one of the premier events for young neurosurgeons! Seize the opportunity to be part of this exceptional meeting!\n\n\n\n\n\n\n\n\n\n\n\n  \n\n\n\n\n\n\n\n\n\n\n\nWe are looking forward to seeing you all in Sicily!\nOn behalf of the EANS Young Neurosurgeons’ Committee\,\nGiovanni Raffa\nEANS YNC Chair
URL:https://www.neurocirugiachile.org/evento/14th-annual-eans-young-neurosurgeons-meeting-and-research-course/
CATEGORIES:Internacionales
ATTACH;FMTTYPE=image/jpeg:https://www.neurocirugiachile.org/wp-content/uploads/2025/02/sicily-italy2025.jpg
END:VEVENT
BEGIN:VEVENT
DTSTART;VALUE=DATE:20250508
DTEND;VALUE=DATE:20250511
DTSTAMP:20260424T031359
CREATED:20250228T224735Z
LAST-MODIFIED:20250228T224735Z
UID:4418-1746662400-1746921599@www.neurocirugiachile.org
SUMMARY:ESUBE Request for Endorsement for the 1st UBE Masterclass\, May 8-10\, 2025 Montpellier\, France
DESCRIPTION:Download Brochure\n\nDear Members of the Board\, \nOn behalf of the European Society for Unilateral Biportal Endoscopy (ESUBE)\, we are honoured to formally request your endorsement for our inaugural Masterclass held from May 8 to May 10\, 2025\, in Montpellier\, France. \nThis event represents a significant milestone for ESUBE\, a society recently founded by European spine surgeons committed to advancing the adoption and education of Unilateral Biportal Endoscopy (UBE). The course will provide hands-on\, practical training to 100 spine surgeons from across Europe\, with the shared goal of enabling them to integrate this innovative and minimally invasive technique into their clinical practices. \nWe share your organization’s mission to improve spine care across Europe through innovation\, education\, and collaboration. Despite its potential\, UBE has not yet received the recognition and support it deserves\, largely due to limited backing from the medical industry. This is where ESUBE\, with your support\, can make a meaningful impact. By endorsing this event\, you would not only help to promote UBE through an independent and academic platform but also play a vital role in advancing the education and training of European spine surgeons. \nWe would be deeply grateful for your endorsement of this initiative\, the information forwarded to your members and the event entered in your event calendar. Such support would lend credibility to our course and align with your dedication to advancing spine surgery education and innovation throughout Europe. \nThank you in advance for considering our request. Should you require additional information about the course or ESUBE\, please do not hesitate to contact us at info@esube.org. \nWe look forward to the possibility of collaborating on this important educational project. \nYours sincerely\, \nDr. Dimitrios Marinopoulos\nPresident\, European Society for Unilateral Biportal Endoscopy (ESUBE) \nDr. Guillaume Lonjon\nMasterclass Local Host
URL:https://www.neurocirugiachile.org/evento/esube-request-for-endorsement-for-the-1st-ube-masterclass-may-8-10-2025-montpellier-france/
CATEGORIES:Internacionales
ATTACH;FMTTYPE=image/jpeg:https://www.neurocirugiachile.org/wp-content/uploads/2025/02/esube-2025.jpg
END:VEVENT
BEGIN:VEVENT
DTSTART;VALUE=DATE:20250529
DTEND;VALUE=DATE:20250601
DTSTAMP:20260424T031359
CREATED:20250108T195607Z
LAST-MODIFIED:20250108T195607Z
UID:4356-1748476800-1748735999@www.neurocirugiachile.org
SUMMARY:Advanced Endoscopic Skull Base Surgery Course ∞ Columbus\, Ohio\, USA
DESCRIPTION:Responding to the increased familiarity with endonasal endoscopic skull base surgery\, we have modified the program to start at a higher level of expertise\, and to promote discussions related to treatment algorithms of specific diseases. However\, we recognize the value of refreshing basic concepts; and that our course caters to participants with a variety of levels of training and experience ●  Therefore\, we will provide the participants with a series of video-lectures and video-prosections to fulfill these needs (Pre-Course) ● This video-lecture series will allow the participants to enjoy the benefits of both a traditional lecture-style course based on anatomic and technical concepts\, and a course with a new interactive format emphasizing decision-making and disease-oriented discussions. Participants will in fact enroll in two courses\, a home study course and the hands-on course without additional costs ●\n\nContact and Registration: \npat@academiceventmanagement.com \nwww.academiceventmanagement.com
URL:https://www.neurocirugiachile.org/evento/advanced-endoscopic-skull-base-surgery-course-%e2%88%9e-columbus-ohio-usa/
CATEGORIES:Internacionales
ATTACH;FMTTYPE=image/jpeg:https://www.neurocirugiachile.org/wp-content/uploads/2025/01/advanced-endoscopy-ohio2025.jpg
END:VEVENT
END:VCALENDAR