BEGIN:VCALENDAR
VERSION:2.0
PRODID:-//Sociedad de Neurocirugía de Chile - ECPv6.15.20//NONSGML v1.0//EN
CALSCALE:GREGORIAN
METHOD:PUBLISH
X-ORIGINAL-URL:https://www.neurocirugiachile.org
X-WR-CALDESC:Eventos para Sociedad de Neurocirugía de Chile
REFRESH-INTERVAL;VALUE=DURATION:PT1H
X-Robots-Tag:noindex
X-PUBLISHED-TTL:PT1H
BEGIN:VTIMEZONE
TZID:America/Santiago
BEGIN:STANDARD
TZOFFSETFROM:-0300
TZOFFSETTO:-0400
TZNAME:-04
DTSTART:20240407T030000
END:STANDARD
BEGIN:DAYLIGHT
TZOFFSETFROM:-0400
TZOFFSETTO:-0300
TZNAME:-03
DTSTART:20240908T040000
END:DAYLIGHT
BEGIN:STANDARD
TZOFFSETFROM:-0300
TZOFFSETTO:-0400
TZNAME:-04
DTSTART:20250406T030000
END:STANDARD
BEGIN:DAYLIGHT
TZOFFSETFROM:-0400
TZOFFSETTO:-0300
TZNAME:-03
DTSTART:20250907T040000
END:DAYLIGHT
BEGIN:STANDARD
TZOFFSETFROM:-0300
TZOFFSETTO:-0400
TZNAME:-04
DTSTART:20260405T030000
END:STANDARD
BEGIN:DAYLIGHT
TZOFFSETFROM:-0400
TZOFFSETTO:-0300
TZNAME:-03
DTSTART:20260906T040000
END:DAYLIGHT
END:VTIMEZONE
BEGIN:VEVENT
DTSTART;VALUE=DATE:20250904
DTEND;VALUE=DATE:20250908
DTSTAMP:20260423T210416
CREATED:20250813T212611Z
LAST-MODIFIED:20250829T165816Z
UID:4910-1756944000-1757289599@www.neurocirugiachile.org
SUMMARY:VI World Congress of Endoscopic Spine Surgery and MISS (Bariloche)
DESCRIPTION:Toda la información e inscripciones en: https://wfse-congress.com \n 
URL:https://www.neurocirugiachile.org/evento/vi-world-congress-of-endoscopic-spine-surgery-and-miss/
CATEGORIES:Internacionales
ATTACH;FMTTYPE=image/jpeg:https://www.neurocirugiachile.org/wp-content/uploads/2025/08/endoscopic-surgery2025.jpg
END:VEVENT
BEGIN:VEVENT
DTSTART;VALUE=DATE:20250911
DTEND;VALUE=DATE:20250914
DTSTAMP:20260423T210416
CREATED:20250826T011959Z
LAST-MODIFIED:20250826T011959Z
UID:4939-1757548800-1757807999@www.neurocirugiachile.org
SUMMARY:Cranial Base Surgery Course “A 360 Degree Perspective Hands-On Workshop” ∞ Atlanta\, GA\, USA
DESCRIPTION:● Recent advances in technology and skull base techniques have raised the level of complexity that both neurosurgeons and ENT surgeons are able to deal with ● As a continuously evolving field\, skull base surgery represents a challenge for those who practice it\, urging for constant training ● Along with expertise\, a key element for successful skull base surgery is acknowledging ongoing developments in conventional microscopy\, skull base endoscopy\, exoscopic techniques\, and robotic-assisted visualization ● This armamentarium provides an extended selection of techniques that can be tailored for each individualized case in the surgical field ● This three-day course\, led by neurosurgeons and ENT surgeons\, exposes the theoretical basis of traditional skull base microsurgical techniques along with a detailed insight on expanded endoscopic techniques and robotic-assisted exoscopic visualization. Participants will have the opportunity to enhance their knowledge and skills through hands-on workshop sessions in which key skull base procedures are recreated using preserved and injected cadaveric specimens ● Course attendees will benefit from lectures provided by experts on the field as they review cases and discuss technique selection as well as complication avoidance and management ● Attendees will be able to challenge themselves with a cadaveric real-life internal carotid artery injury model during endoscopic endonasal surgery ● The model will be running during the whole course therefore attendees will be able to perform several attempts of repair and practice the ‘best’ technique to cope with this dreadful complication ● The model employs a real-life scenario where the OR environment is reproduced so as to test the stress and emotional burden that this unexpected complication can produce. In addition to the technical skills\, the attendee will learn and refine the proper ICA injury intraoperative management ● To allow the greatest educational experience\, maximum enrollment in this course will be limited to 20 participants ●  \nContact and Information: \nshannah.jane.edwards@emory.edu \nwww.med.emory.edu
URL:https://www.neurocirugiachile.org/evento/cranial-base-surgery-course-a-360-degree-perspective-hands-on-workshop-%e2%88%9e-atlanta-ga-usa/
CATEGORIES:Internacionales
ATTACH;FMTTYPE=image/png:https://www.neurocirugiachile.org/wp-content/uploads/2025/08/SB_ATLANTA_25_2.png
END:VEVENT
BEGIN:VEVENT
DTSTART;VALUE=DATE:20250915
DTEND;VALUE=DATE:20250917
DTSTAMP:20260423T210416
CREATED:20250609T160932Z
LAST-MODIFIED:20250609T160932Z
UID:4652-1757894400-1758067199@www.neurocirugiachile.org
SUMMARY:EANS Chronic Subdural Hematoma Hands-on Course (Rome)
DESCRIPTION:Dear Colleagues and Friends\, \nWe are excited to announce that registration is now open for the EANS Chronic Subdural Hematoma Hands-on Course on “Middle Meningeal Artery (MMA) Techniques & Surgical Perspectives from Scalpel to Microcatheter”\, to be held from 15 to 16 September in beautiful Rome\, Italy. \nChronic subdural hematomas (cSDHs) represent one of the most common neurosurgical conditions\, particularly in elderly populations. While traditional surgical techniques such as burr-hole evacuation have long been the standard of care\, there has been growing interest in minimally invasive alternatives to improve outcomes and reduce recurrence rates. Among these\, middle meningeal artery (MMA) embolization has emerged as a groundbreaking treatment option\, offering a less invasive yet highly effective approach\, especially to avoid recurrences. \nConsidering the above\, there is an urgent need for a dedicated training course tailored specifically for neurosurgeons\, highlighting the MMA embolization technique as an essential addition to the armamentarium of modern neurosurgeons. The Course aims to provide: \n\nTheoretical grounding in the pathophysiology and indications for surgery and MMA embolization.\nHands-on practical training using simulators and real-world scenarios to familiarize participants with the procedural steps.\nExpert insights into patient selection\, perioperative management\, and long-term follow-up strategies.\nA platform to understand how this technique can be seamlessly integrated into neurosurgical practice\, alongside traditional surgical interventions.\nPros and Cons of each device (coils\, EVOH\, glue etc) used for MMA Embolization\nA network between young neurosurgeons interested in endovascular techniques and senior experts.\n\nWe look forward to seeing you in Rome! \nLEARN MORE & REGISTER
URL:https://www.neurocirugiachile.org/evento/eans-chronic-subdural-hematoma-hands-on-course-rome/
CATEGORIES:Internacionales
ATTACH;FMTTYPE=image/jpeg:https://www.neurocirugiachile.org/wp-content/uploads/2025/06/roma-eans2025.jpg
END:VEVENT
END:VCALENDAR