BEGIN:VCALENDAR
VERSION:2.0
PRODID:-//Sociedad de Neurocirugía de Chile - ECPv6.15.20//NONSGML v1.0//EN
CALSCALE:GREGORIAN
METHOD:PUBLISH
X-ORIGINAL-URL:https://www.neurocirugiachile.org
X-WR-CALDESC:Eventos para Sociedad de Neurocirugía de Chile
REFRESH-INTERVAL;VALUE=DURATION:PT1H
X-Robots-Tag:noindex
X-PUBLISHED-TTL:PT1H
BEGIN:VTIMEZONE
TZID:America/Santiago
BEGIN:STANDARD
TZOFFSETFROM:-0300
TZOFFSETTO:-0400
TZNAME:-04
DTSTART:20240407T030000
END:STANDARD
BEGIN:DAYLIGHT
TZOFFSETFROM:-0400
TZOFFSETTO:-0300
TZNAME:-03
DTSTART:20240908T040000
END:DAYLIGHT
BEGIN:STANDARD
TZOFFSETFROM:-0300
TZOFFSETTO:-0400
TZNAME:-04
DTSTART:20250406T030000
END:STANDARD
BEGIN:DAYLIGHT
TZOFFSETFROM:-0400
TZOFFSETTO:-0300
TZNAME:-03
DTSTART:20250907T040000
END:DAYLIGHT
BEGIN:STANDARD
TZOFFSETFROM:-0300
TZOFFSETTO:-0400
TZNAME:-04
DTSTART:20260405T030000
END:STANDARD
BEGIN:DAYLIGHT
TZOFFSETFROM:-0400
TZOFFSETTO:-0300
TZNAME:-03
DTSTART:20260906T040000
END:DAYLIGHT
END:VTIMEZONE
BEGIN:VEVENT
DTSTART;VALUE=DATE:20251001
DTEND;VALUE=DATE:20251005
DTSTAMP:20260423T193402
CREATED:20250415T153521Z
LAST-MODIFIED:20250415T154101Z
UID:4482-1759276800-1759622399@www.neurocirugiachile.org
SUMMARY:Skull Base Course Rotterdam 2025
DESCRIPTION:The Rotterdam yearly Skullbase course\, taught by Dr. Krisht has become a tradition in the European landscape of hands-on courses\, offering a unique platform in which philosophy\, passion\, technique and patient-centered care blend together. The envelope is pushed further in terms of open surgery and the teaching is personalized\, for a one-of-a-kind experience. \n\nhttps://www.skullbasecourserotterdam.com/\nBrochure
URL:https://www.neurocirugiachile.org/evento/skull-base-course-rotterdam-2025/
CATEGORIES:Internacionales
ATTACH;FMTTYPE=image/png:https://www.neurocirugiachile.org/wp-content/uploads/2025/04/skullbase-rotterdam.png
END:VEVENT
BEGIN:VEVENT
DTSTART;VALUE=DATE:20251005
DTEND;VALUE=DATE:20251010
DTSTAMP:20260423T193402
CREATED:20250118T200757Z
LAST-MODIFIED:20250228T232653Z
UID:4372-1759622400-1760054399@www.neurocirugiachile.org
SUMMARY:EANS Annual Congress Vienna 2025
DESCRIPTION:Dear Friends and Colleagues\, \nWe would like to welcome you to Vienna for the EANS2025 Annual Congress! This will take place on 5-9 October 2025 at Messe Wien Exhibition & Congress Center. \nIt will be our great honor and privilege to host you in Vienna and work together for another unforgettable EANS Congress. The 2025 Congress Theme will be “Embracing Collaboration in Neurosurgery”\, reflecting the current need to provide a platform for our community to foster multinational partnerships towards the betterment of Neurosurgical practice and treatment. \nWe firmly believe that the EANS2025 Vienna congress will be an excellent opportunity for all professionals related to Neurosurgery\, to develop new collaborations and strengthen already existing relationships. \nWe would like to invite you to discover Vienna\, a truly vibrant city with amazing history\, gastronomy and culture. \nJoin us for the EANS2025 Congress! \nWarm regards\, \n\n\n\n\n\n\n\nClaudius Thomé\n\nEANS 2025 Congress President \n\n\n\n\n\n\n\n\n\n\n\n\n\nTorstein R. Meling\n\nEANS President
URL:https://www.neurocirugiachile.org/evento/eans-annual-congress-vienna-2025/
CATEGORIES:Internacionales
ATTACH;FMTTYPE=image/jpeg:https://www.neurocirugiachile.org/wp-content/uploads/2025/01/vienna2025.jpg
END:VEVENT
BEGIN:VEVENT
DTSTART;VALUE=DATE:20251023
DTEND;VALUE=DATE:20251027
DTSTAMP:20260423T193402
CREATED:20250516T184319Z
LAST-MODIFIED:20250516T184319Z
UID:4598-1761177600-1761523199@www.neurocirugiachile.org
SUMMARY:11th SNSS Annual meeting with international participation - Ethico-legal aspect of neurosurgery in the 21st century: Challenges and opportunities
DESCRIPTION:Dear colleagues and friends\, \nWe are thrilled to extend an invitation to you for our upcoming 11th SNSS Annual Meeting with international participation entitled «Ethico-Legal Aspects in Neurosurgery in the 21st Century: Challenges and Opportunities»; which will take place in the beautiful city of Novi Sad\, Serbia\, from October 23 to 26\, 2025.
URL:https://www.neurocirugiachile.org/evento/11th-snss-annual-meeting-with-international-participation-ethico-legal-aspect-of-neurosurgery-in-the-21st-century-challenges-and-opportunities/
CATEGORIES:Internacionales
ATTACH;FMTTYPE=image/jpeg:https://www.neurocirugiachile.org/wp-content/uploads/2025/05/ethicolegalSERBIA.jpg
END:VEVENT
BEGIN:VEVENT
DTSTART;VALUE=DATE:20251027
DTEND;VALUE=DATE:20251031
DTSTAMP:20260423T193402
CREATED:20250516T183549Z
LAST-MODIFIED:20250516T183627Z
UID:4594-1761523200-1761868799@www.neurocirugiachile.org
SUMMARY:International Symposium on Intracranial Pressure and Brain Monitoring (Uruguay)
DESCRIPTION:Dear colleagues and friends\,\nWe are delighted to invite you to the XIX International Symposium on Intracranial Pressure and Brain Monitoring (XIX ICP)\, to be held on October 27-30\, 2025 in Punta del Este\, Uruguay. As a first-time Latin American host\, Uruguay assumes the commitment and pride of hosting this renowned event under the theme: “Thinking beyond the skull: a multidimensional view of intracranial pressure” \nhttps://icp2025.org/
URL:https://www.neurocirugiachile.org/evento/international-symposium-on-intracranial-pressure-and-brain-monitoring-uruguay/
CATEGORIES:Internacionales
ATTACH;FMTTYPE=image/jpeg:https://www.neurocirugiachile.org/wp-content/uploads/2025/05/XIX-ICP-uruguay.jpg
END:VEVENT
END:VCALENDAR