BEGIN:VCALENDAR
VERSION:2.0
PRODID:-//Sociedad de Neurocirugía de Chile - ECPv6.15.20//NONSGML v1.0//EN
CALSCALE:GREGORIAN
METHOD:PUBLISH
X-ORIGINAL-URL:https://www.neurocirugiachile.org
X-WR-CALDESC:Eventos para Sociedad de Neurocirugía de Chile
REFRESH-INTERVAL;VALUE=DURATION:PT1H
X-Robots-Tag:noindex
X-PUBLISHED-TTL:PT1H
BEGIN:VTIMEZONE
TZID:America/Santiago
BEGIN:STANDARD
TZOFFSETFROM:-0300
TZOFFSETTO:-0400
TZNAME:-04
DTSTART:20250406T030000
END:STANDARD
BEGIN:DAYLIGHT
TZOFFSETFROM:-0400
TZOFFSETTO:-0300
TZNAME:-03
DTSTART:20250907T040000
END:DAYLIGHT
BEGIN:STANDARD
TZOFFSETFROM:-0300
TZOFFSETTO:-0400
TZNAME:-04
DTSTART:20260405T030000
END:STANDARD
BEGIN:DAYLIGHT
TZOFFSETFROM:-0400
TZOFFSETTO:-0300
TZNAME:-03
DTSTART:20260906T040000
END:DAYLIGHT
BEGIN:STANDARD
TZOFFSETFROM:-0300
TZOFFSETTO:-0400
TZNAME:-04
DTSTART:20270404T030000
END:STANDARD
BEGIN:DAYLIGHT
TZOFFSETFROM:-0400
TZOFFSETTO:-0300
TZNAME:-03
DTSTART:20270905T040000
END:DAYLIGHT
END:VTIMEZONE
BEGIN:VEVENT
DTSTART;VALUE=DATE:20260304
DTEND;VALUE=DATE:20260308
DTSTAMP:20260423T130404
CREATED:20251127T223837Z
LAST-MODIFIED:20251127T223837Z
UID:5115-1772582400-1772927999@www.neurocirugiachile.org
SUMMARY:3rd Congress of Yaşargil Microneurosurgery Academy - São Paulo\, Brazil
DESCRIPTION:We are pleased to announce the official launch of the website for the 3rd Congress of Yaşargil Microneurosurgery Academy\, which will take place from March 4 to 7\, 2026\, in São Paulo\, Brazil. \nThis congress will offer an immersive experience in microneurosurgery\, bringing together internationally renowned experts to explore techniques\, innovations\, and advances rooted in the legacy of Professor M. Gazi Yaşargil — a global reference and true master of modern neurosurgery. \nWe invite you to visit yasargilcongress.com and stay updated on all the news about this remarkable event\, which celebrates science\, surgical excellence\, and the enduring influence of a pioneer. We look forward to welcoming you in São Paulo! \nhttps://yasargilcongress.com/yasargilcongress2026
URL:https://www.neurocirugiachile.org/evento/3rd-congress-of-yasargil-microneurosurgery-academy-sao-paulo-brazil/
CATEGORIES:Internacionales
ATTACH;FMTTYPE=image/png:https://www.neurocirugiachile.org/wp-content/uploads/2025/11/yasargil-brazil2026.png
END:VEVENT
BEGIN:VEVENT
DTSTART;TZID=America/Santiago:20260307T070000
DTEND;TZID=America/Santiago:20260307T083000
DTSTAMP:20260423T130404
CREATED:20260304T114828Z
LAST-MODIFIED:20260304T114923Z
UID:5364-1772866800-1772872200@www.neurocirugiachile.org
SUMMARY:Special Women's Day Webinar (WINS)
DESCRIPTION:Inscripciones por Zoom aquí
URL:https://www.neurocirugiachile.org/evento/special-womens-day-webinar-wins/
CATEGORIES:Internacionales
ATTACH;FMTTYPE=image/jpeg:https://www.neurocirugiachile.org/wp-content/uploads/2026/03/womenWorldFederation2026.jpeg
END:VEVENT
BEGIN:VEVENT
DTSTART;TZID=America/Santiago:20260311T130000
DTEND;TZID=America/Santiago:20260311T140000
DTSTAMP:20260423T130404
CREATED:20260304T212111Z
LAST-MODIFIED:20260304T212111Z
UID:5370-1773234000-1773237600@www.neurocirugiachile.org
SUMMARY:Impact of EANS Individual Membership
DESCRIPTION:The EANS Individual Membership (IM) Committee is glad to invite you to its next webinar\, which will discuss the impact and benefits of the EANS Individual Membership. \nThe webinar will feature an outstanding panel of speakers and their talks: \n\nFrancesco Sala\, President of the EANS (Italy) & Michael Bruneau\, EANS Scientific Liaison (Belgium): Organisation and structure of the society\nFrancesco Signorelli\, EANS Individual Membership Committee Member (Italy): How Individual Membership in EANS Strengthens Training\, Career Development\, and Quality of Care in European Neurosurgery\n\nModerators: Markus Wiedman (Norway) and Loredana Mariana Agavriloaei (Romania)\nPanel: Katrin Rabiei (Sweden)\, Eleni Tsianaka (Greece) and Aysegul Aydin (Turkey) \nWhen: 11 March 2026\, 17:00 CET\nRegister free of charge. Don’t wait – the number of registrations is limited! \nRegister here!
URL:https://www.neurocirugiachile.org/evento/impact-of-eans-individual-membership/
CATEGORIES:Internacionales
ATTACH;FMTTYPE=image/jpeg:https://www.neurocirugiachile.org/wp-content/uploads/2026/03/eans-impact-seminar2026.jpg
END:VEVENT
BEGIN:VEVENT
DTSTART;VALUE=DATE:20260312
DTEND;VALUE=DATE:20260315
DTSTAMP:20260423T130404
CREATED:20260213T173953Z
LAST-MODIFIED:20260213T173953Z
UID:5319-1773273600-1773532799@www.neurocirugiachile.org
SUMMARY:15th Annual MINS Conference (Costa Rica)
DESCRIPTION:Link https://www.minsociety.com/2026-mins-meeting/
URL:https://www.neurocirugiachile.org/evento/15th-annual-mins-conference-costa-rica/
CATEGORIES:Internacionales
ATTACH;FMTTYPE=image/jpeg:https://www.neurocirugiachile.org/wp-content/uploads/2026/02/costarica-minimamenteinvasivo2026.jpg
END:VEVENT
END:VCALENDAR