BEGIN:VCALENDAR
VERSION:2.0
PRODID:-//Sociedad de Neurocirugía de Chile - ECPv6.15.20//NONSGML v1.0//EN
CALSCALE:GREGORIAN
METHOD:PUBLISH
X-WR-CALNAME:Sociedad de Neurocirugía de Chile
X-ORIGINAL-URL:https://www.neurocirugiachile.org
X-WR-CALDESC:Eventos para Sociedad de Neurocirugía de Chile
REFRESH-INTERVAL;VALUE=DURATION:PT1H
X-Robots-Tag:noindex
X-PUBLISHED-TTL:PT1H
BEGIN:VTIMEZONE
TZID:America/Santiago
BEGIN:STANDARD
TZOFFSETFROM:-0300
TZOFFSETTO:-0400
TZNAME:-04
DTSTART:20240407T030000
END:STANDARD
BEGIN:DAYLIGHT
TZOFFSETFROM:-0400
TZOFFSETTO:-0300
TZNAME:-03
DTSTART:20240908T040000
END:DAYLIGHT
BEGIN:STANDARD
TZOFFSETFROM:-0300
TZOFFSETTO:-0400
TZNAME:-04
DTSTART:20250406T030000
END:STANDARD
BEGIN:DAYLIGHT
TZOFFSETFROM:-0400
TZOFFSETTO:-0300
TZNAME:-03
DTSTART:20250907T040000
END:DAYLIGHT
BEGIN:STANDARD
TZOFFSETFROM:-0300
TZOFFSETTO:-0400
TZNAME:-04
DTSTART:20260405T030000
END:STANDARD
BEGIN:DAYLIGHT
TZOFFSETFROM:-0400
TZOFFSETTO:-0300
TZNAME:-03
DTSTART:20260906T040000
END:DAYLIGHT
END:VTIMEZONE
BEGIN:VEVENT
DTSTART;TZID=America/Santiago:20250626T180000
DTEND;TZID=America/Santiago:20250627T180000
DTSTAMP:20260424T031408
CREATED:20250422T222525Z
LAST-MODIFIED:20250626T011608Z
UID:4511-1750960800-1751047200@www.neurocirugiachile.org
SUMMARY:2as. Jornadas Chileno Uruguayas de Nervio Periférico
DESCRIPTION:Ver programa (PDF)\n\nSEGUNDAS JORNADAS CHILENO URUGUAYAS DE NEUROCIRUGIA DE NERVIO PERIFÉRICO y PRIMERAS JORNADAS LATINOAMERICANAS DE NERVIO PERIFÉRICO\nMODULO: PATOLOGÍA TUMORAL EN NERVIO PERIFÉRICO.\nOrganizan Sociedad de Neurocirugía de Chile /  Sociedad Uruguaya de Neurocirugía / Universidad de Concepción\nFecha 26 y 27 Junio 2025 – 18:00 a 20:30 horas.\nModalidad On Line – Zoom \nInscríbase en la fecha y horario que más le convengan: \nhttps://uchile.zoom.us/meeting/register/n1AC47iqQravaDK3-4Wc-Q \nLuego de la inscripción\, recibirá un correo electrónico de confirmación con información para unirse al seminario web. \n 
URL:https://www.neurocirugiachile.org/evento/2as-jornadas-chileno-uruguayas-de-nervio-periferico/
CATEGORIES:Internacionales,Nacionales
ATTACH;FMTTYPE=image/webp:https://www.neurocirugiachile.org/wp-content/uploads/2025/04/sistema-nervioso-periferico.webp
END:VEVENT
END:VCALENDAR