BEGIN:VCALENDAR
VERSION:2.0
PRODID:-//Sociedad de Neurocirugía de Chile - ECPv6.15.20//NONSGML v1.0//EN
CALSCALE:GREGORIAN
METHOD:PUBLISH
X-WR-CALNAME:Sociedad de Neurocirugía de Chile
X-ORIGINAL-URL:https://www.neurocirugiachile.org
X-WR-CALDESC:Eventos para Sociedad de Neurocirugía de Chile
REFRESH-INTERVAL;VALUE=DURATION:PT1H
X-Robots-Tag:noindex
X-PUBLISHED-TTL:PT1H
BEGIN:VTIMEZONE
TZID:America/Santiago
BEGIN:STANDARD
TZOFFSETFROM:-0300
TZOFFSETTO:-0400
TZNAME:-04
DTSTART:20240407T030000
END:STANDARD
BEGIN:DAYLIGHT
TZOFFSETFROM:-0400
TZOFFSETTO:-0300
TZNAME:-03
DTSTART:20240908T040000
END:DAYLIGHT
BEGIN:STANDARD
TZOFFSETFROM:-0300
TZOFFSETTO:-0400
TZNAME:-04
DTSTART:20250406T030000
END:STANDARD
BEGIN:DAYLIGHT
TZOFFSETFROM:-0400
TZOFFSETTO:-0300
TZNAME:-03
DTSTART:20250907T040000
END:DAYLIGHT
BEGIN:STANDARD
TZOFFSETFROM:-0300
TZOFFSETTO:-0400
TZNAME:-04
DTSTART:20260405T030000
END:STANDARD
BEGIN:DAYLIGHT
TZOFFSETFROM:-0400
TZOFFSETTO:-0300
TZNAME:-03
DTSTART:20260906T040000
END:DAYLIGHT
END:VTIMEZONE
BEGIN:VEVENT
DTSTART;TZID=America/Santiago:20250702T170000
DTEND;TZID=America/Santiago:20250702T183000
DTSTAMP:20260424T013830
CREATED:20250626T234821Z
LAST-MODIFIED:20250626T234826Z
UID:4711-1751475600-1751481000@www.neurocirugiachile.org
SUMMARY:EANS Webinar: Surgery of the orbit
DESCRIPTION:We are glad to invite you to the next EANS webinar hosted by the EANS Skull Base Section\, entitled: Surgery of the orbit. \nOrbital surgery is an integral part of skull base surgery. This speciality deals with a region where several specialists namely neurosurgery\, ENT and ophthalmology\, join forces to tackle these pathologies. There is also renewed interest in the area due to several recent descriptions of techniques that make the surgery minimally invasive or with advances in using the orbit as an access point to several intra cranial pathologies. \nJoin the webinar and hear from the invited speakers and their talks: \nHenry Schroeder (Germany): Endoscopic endonasal approach to the orbit\nEmmanuel Jouanneau (France): Optic nerve and orbital apex decompression : endonasal or cranial route\, which route for which pathology?\nDiego Mazzatenta (Italy): The role of transorbital endoscopic approach\nLuigi Maria Cavallo (Italy): Transorbital and endonasal complementarity \nThe discussion will be moderated by Moncef Berhouma and co-moderated by Diego Mazzatenta. \nWhen: 02 July 2025\, 17:00 CEST\nRegister free of charge. Don’t wait – the number of registrations is limited!\nLive stream will be available via our Facebook and Youtube. \nRegister here!
URL:https://www.neurocirugiachile.org/evento/eans-webinar-surgery-of-the-orbit/
CATEGORIES:Internacionales
ATTACH;FMTTYPE=image/jpeg:https://www.neurocirugiachile.org/wp-content/uploads/2025/06/surgery-ofthe-orbit.jpg
END:VEVENT
END:VCALENDAR