BEGIN:VCALENDAR
VERSION:2.0
PRODID:-//Sociedad de Neurocirugía de Chile - ECPv6.15.20//NONSGML v1.0//EN
CALSCALE:GREGORIAN
METHOD:PUBLISH
X-ORIGINAL-URL:https://www.neurocirugiachile.org
X-WR-CALDESC:Eventos para Sociedad de Neurocirugía de Chile
REFRESH-INTERVAL;VALUE=DURATION:PT1H
X-Robots-Tag:noindex
X-PUBLISHED-TTL:PT1H
BEGIN:VTIMEZONE
TZID:America/Santiago
BEGIN:STANDARD
TZOFFSETFROM:-0300
TZOFFSETTO:-0400
TZNAME:-04
DTSTART:20240407T030000
END:STANDARD
BEGIN:DAYLIGHT
TZOFFSETFROM:-0400
TZOFFSETTO:-0300
TZNAME:-03
DTSTART:20240908T040000
END:DAYLIGHT
BEGIN:STANDARD
TZOFFSETFROM:-0300
TZOFFSETTO:-0400
TZNAME:-04
DTSTART:20250406T030000
END:STANDARD
BEGIN:DAYLIGHT
TZOFFSETFROM:-0400
TZOFFSETTO:-0300
TZNAME:-03
DTSTART:20250907T040000
END:DAYLIGHT
BEGIN:STANDARD
TZOFFSETFROM:-0300
TZOFFSETTO:-0400
TZNAME:-04
DTSTART:20260405T030000
END:STANDARD
BEGIN:DAYLIGHT
TZOFFSETFROM:-0400
TZOFFSETTO:-0300
TZNAME:-03
DTSTART:20260906T040000
END:DAYLIGHT
END:VTIMEZONE
BEGIN:VEVENT
DTSTART;VALUE=DATE:20250723
DTEND;VALUE=DATE:20250726
DTSTAMP:20260424T014141
CREATED:20250313T192718Z
LAST-MODIFIED:20250313T192928Z
UID:4442-1753228800-1753487999@www.neurocirugiachile.org
SUMMARY:5th Annual Update in Neuro-Oncology (Harvard Medical School)
DESCRIPTION:https://cmecatalog.hms.harvard.edu/annual-update-neuro-oncology\nCheck the program here\n\nCourse Overview\nNeuro-oncology is a rapidly evolving multi-disciplinary field\, which involves the medical\, radiation\, and surgical management of pediatric and adult patients with primary and metastatic tumors of the central nervous system (CNS) and peripheral nervous system (PNS). The field of neuro-oncology also encompasses neurogenetic syndromes\, like neurofibromatosis\, associated with nervous system tumors and various neurological complications of cancer and cancer treatments. In addition\, modern molecular neuropathology and neuroradiology concepts are essential for accurate diagnosis and classification. This three-day CME course\, the 5th Annual Update in Neuro-Oncology\, is designed to provide an international audience with a comprehensive review of the diagnosis and management of pediatric and adult patients with primary and metastatic CNS and PNS tumors\, specific neurogenetic syndromes\, and neurological complications of cancer. The target audience consists of providers and trainees involved in the care of adult and pediatric neuro-oncology patients (neurologists\, oncologists\, radiation oncologists\, neurosurgeons\, neurologists\, neuroradiologists\, and neuropathologists). The course will also be of high relevance to nurse practitioners\, physician assistants\, psychologists\, pharmacists\, nurses\, and industry professionals. \nCourse Directors\n\nTracy Batchelor\,  MD\, MPH \nE. Antonio Chiocca\, MD\, PhD \nPatrick Wen\, MD
URL:https://www.neurocirugiachile.org/evento/5th-annual-update-in-neuro-oncology-harvard-medical-school/
CATEGORIES:Internacionales
ATTACH;FMTTYPE=image/jpeg:https://www.neurocirugiachile.org/wp-content/uploads/2025/03/2025-neurooncology-scaled.jpg
END:VEVENT
BEGIN:VEVENT
DTSTART;VALUE=DATE:20250723
DTEND;VALUE=DATE:20250726
DTSTAMP:20260424T014141
CREATED:20250704T224457Z
LAST-MODIFIED:20250704T224457Z
UID:4715-1753228800-1753487999@www.neurocirugiachile.org
SUMMARY:5th Annual Update in Neuro-Oncology: Harvard Medical School CME course invitation
DESCRIPTION:Program here\n\nDear Sociedad de Neurocirugia de Chile\, \nOn behalf of course director Dr. Tracy Batchelor\, we hope that you will forward this announcement and the link below to your Society’s members and colleagues. Our upcoming educational course in neuro-oncology is open to faculty\, trainees\, and nursing professionals. The course has a “live” virtual format and will be held July 23-25\, 2025. The course is also archived\, and attendees have 60 days to view the content on their own time and at their own pace. The course is accredited for continuing medical education credits. \nNeuro-oncology is a rapidly evolving multi-disciplinary field\, which involves the medical\, radiation\, and surgical management of pediatric and adult patients with primary and metastatic tumors of the central nervous system (CNS) and peripheral nervous system (PNS). The field of neuro-oncology also encompasses neurogenetic syndromes\, like neurofibromatosis\, associated with nervous system tumors and various neurological complications of cancer and cancer treatments. In addition\, modern molecular neuropathology and neuroradiology concepts are essential for accurate diagnosis and classification. This three-day CME course\, the 5th Annual Update in Neuro-Oncology\, is designed to provide an international audience with a comprehensive review of the diagnosis and management of pediatric and adult patients with primary and metastatic CNS and PNS tumors\, specific neurogenetic syndromes\, and neurological complications of cancer. The target audience consists of providers and trainees involved in the care of adult and pediatric neuro-oncology patients (neurologists\, oncologists\, radiation oncologists\, neurosurgeons\, neurologists\, neuroradiologists\, and neuropathologists). The course will also be of high relevance to nurse practitioners\, physician assistants\, psychologists\, pharmacists\, nurses\, and industry professionals. \nStudents and trainees are eligible for a reduced registration fee by emailing okatsovskiy@bwh.harvard.edu. \nCourse link: https://learn.hms.harvard.edu/programs/annual-update-neuro-oncology \nThank you\, \nOlga Katsovskiy\, MHA\, Program Manager\nOn Behalf of Tracy Batchelor\, MD\nNeurologist-In-Chief and Chair\, Department of Neurology\, Mass General Brigham\nMartin A. Samuels Professor of Neurology\, Harvard Medical School
URL:https://www.neurocirugiachile.org/evento/5th-annual-update-in-neuro-oncology-harvard-medical-school-cme-course-invitation/
CATEGORIES:Internacionales
ATTACH;FMTTYPE=image/png:https://www.neurocirugiachile.org/wp-content/uploads/2025/07/5thAnnualUpdateinNeuro-Oncology.png
END:VEVENT
END:VCALENDAR