BEGIN:VCALENDAR
VERSION:2.0
PRODID:-//Sociedad de Neurocirugía de Chile - ECPv6.15.20//NONSGML v1.0//EN
CALSCALE:GREGORIAN
METHOD:PUBLISH
X-WR-CALNAME:Sociedad de Neurocirugía de Chile
X-ORIGINAL-URL:https://www.neurocirugiachile.org
X-WR-CALDESC:Eventos para Sociedad de Neurocirugía de Chile
REFRESH-INTERVAL;VALUE=DURATION:PT1H
X-Robots-Tag:noindex
X-PUBLISHED-TTL:PT1H
BEGIN:VTIMEZONE
TZID:America/Santiago
BEGIN:STANDARD
TZOFFSETFROM:-0300
TZOFFSETTO:-0400
TZNAME:-04
DTSTART:20240407T030000
END:STANDARD
BEGIN:DAYLIGHT
TZOFFSETFROM:-0400
TZOFFSETTO:-0300
TZNAME:-03
DTSTART:20240908T040000
END:DAYLIGHT
BEGIN:STANDARD
TZOFFSETFROM:-0300
TZOFFSETTO:-0400
TZNAME:-04
DTSTART:20250406T030000
END:STANDARD
BEGIN:DAYLIGHT
TZOFFSETFROM:-0400
TZOFFSETTO:-0300
TZNAME:-03
DTSTART:20250907T040000
END:DAYLIGHT
BEGIN:STANDARD
TZOFFSETFROM:-0300
TZOFFSETTO:-0400
TZNAME:-04
DTSTART:20260405T030000
END:STANDARD
BEGIN:DAYLIGHT
TZOFFSETFROM:-0400
TZOFFSETTO:-0300
TZNAME:-03
DTSTART:20260906T040000
END:DAYLIGHT
END:VTIMEZONE
BEGIN:VEVENT
DTSTART;TZID=America/Santiago:20250730T200000
DTEND;TZID=America/Santiago:20250730T213000
DTSTAMP:20260424T001718
CREATED:20250729T210522Z
LAST-MODIFIED:20250729T210522Z
UID:4889-1753905600-1753911000@www.neurocirugiachile.org
SUMMARY:Capítulo de Neurocirugía Funcional y Estereotaxia Universidad FLANC: Avances en la Cirugía de Epilepsia
DESCRIPTION:Inscripciones aquí
URL:https://www.neurocirugiachile.org/evento/capitulo-de-neurocirugia-funcional-y-estereotaxia-universidad-flanc-avances-en-la-cirugia-de-epilepsia/
CATEGORIES:Internacionales
ATTACH;FMTTYPE=image/jpeg:https://www.neurocirugiachile.org/wp-content/uploads/2025/07/uflanc-epilepsia2025.jpg
END:VEVENT
END:VCALENDAR