BEGIN:VCALENDAR
VERSION:2.0
PRODID:-//Sociedad de Neurocirugía de Chile - ECPv6.15.20//NONSGML v1.0//EN
CALSCALE:GREGORIAN
METHOD:PUBLISH
X-ORIGINAL-URL:https://www.neurocirugiachile.org
X-WR-CALDESC:Eventos para Sociedad de Neurocirugía de Chile
REFRESH-INTERVAL;VALUE=DURATION:PT1H
X-Robots-Tag:noindex
X-PUBLISHED-TTL:PT1H
BEGIN:VTIMEZONE
TZID:America/Santiago
BEGIN:STANDARD
TZOFFSETFROM:-0300
TZOFFSETTO:-0400
TZNAME:-04
DTSTART:20240407T030000
END:STANDARD
BEGIN:DAYLIGHT
TZOFFSETFROM:-0400
TZOFFSETTO:-0300
TZNAME:-03
DTSTART:20240908T040000
END:DAYLIGHT
BEGIN:STANDARD
TZOFFSETFROM:-0300
TZOFFSETTO:-0400
TZNAME:-04
DTSTART:20250406T030000
END:STANDARD
BEGIN:DAYLIGHT
TZOFFSETFROM:-0400
TZOFFSETTO:-0300
TZNAME:-03
DTSTART:20250907T040000
END:DAYLIGHT
BEGIN:STANDARD
TZOFFSETFROM:-0300
TZOFFSETTO:-0400
TZNAME:-04
DTSTART:20260405T030000
END:STANDARD
BEGIN:DAYLIGHT
TZOFFSETFROM:-0400
TZOFFSETTO:-0300
TZNAME:-03
DTSTART:20260906T040000
END:DAYLIGHT
END:VTIMEZONE
BEGIN:VEVENT
DTSTART;VALUE=DATE:20251120
DTEND;VALUE=DATE:20251123
DTSTAMP:20260423T193629
CREATED:20250409T122834Z
LAST-MODIFIED:20250409T122834Z
UID:4479-1763596800-1763855999@www.neurocirugiachile.org
SUMMARY:WSSFN 2025 Reunión Intermedia
DESCRIPTION:La Sociedad Mundial de Neurocirugía Funcional y Estereotaxia (WSSFN) y la Sociedad Latinoamericana de Neurocirugía Funcional y Estereotaxia (SLANFE)\, informan la realización de  WSSFN 2025 Reunión Intermedia que se llevará a cabo del 20 al 22 de Noviembre en Buenos Aires\, Argentina. \nhttps://www.wssfn2025.com/ \n 
URL:https://www.neurocirugiachile.org/evento/wssfn-2025-reunion-intermedia/
CATEGORIES:Internacionales
ATTACH;FMTTYPE=image/png:https://www.neurocirugiachile.org/wp-content/uploads/2025/04/wfns2025intermedia.png
END:VEVENT
BEGIN:VEVENT
DTSTART;VALUE=DATE:20251120
DTEND;VALUE=DATE:20251123
DTSTAMP:20260423T193629
CREATED:20250610T162505Z
LAST-MODIFIED:20250713T023859Z
UID:4656-1763596800-1763855999@www.neurocirugiachile.org
SUMMARY:WSSFN 2025 Reunión intermedia (Buenos Aires)
DESCRIPTION:En nombre de la Sociedad Mundial de Neurocirugía Funcional y Estereotaxia (WSSFN por sus siglas en inglés) y la Sociedad Latinoamericana de Neurocirugía Funcional y Estereotaxia (SLANFE)\, me dirijo a usted a fin de hacerle llegar al Presidente de la Sociedad de Neurocirugía de Chile\, una carta con un pedido de Auspicio y Difusión para la WSSFN 2025 Reunión Intermedia que se llevará a cabo del 20 al 22 de Noviembre en Buenos Aires. \nEsperamos contar con su apoyo y quedamos disponibles ante cualquier consulta que pudiera surgir. \nSaludos cordiales\, \nMateo\nIRIS 360\nSecretaría WSSFN 2025 IM \n\nWSSFN2025 Program Book\nPrograma Científico Reunión Conjunta SLANFE-ABCUR
URL:https://www.neurocirugiachile.org/evento/wssfn-2025-reunion-intermedia-buenos-aires/
CATEGORIES:Internacionales
ATTACH;FMTTYPE=image/jpeg:https://www.neurocirugiachile.org/wp-content/uploads/2025/06/wssfn2-1.jpg
END:VEVENT
BEGIN:VEVENT
DTSTART;VALUE=DATE:20251121
DTEND;VALUE=DATE:20251123
DTSTAMP:20260423T193629
CREATED:20250916T181158Z
LAST-MODIFIED:20250916T181158Z
UID:4967-1763683200-1763855999@www.neurocirugiachile.org
SUMMARY:XXXIst  Belgian International Spine Symposium
DESCRIPTION:The XXXIst  Belgian International Spine Symposium (formerly Brussels International Spine Symposium) will take place on November 21 & 22\, 2025 in Antwerp. It is\, since over 30 years\, one of the most important spine meetings in Europe and will be co-chaired by Robert Gunzburg (Brussels)\, Marek Szpalski (Brussels) and Scott Blumenthal (Dallas). \nThis year\, during the 31st edition of the meeting\, an exceptional international faculty will revisit and update scientific and clinical knowledge on new technologies and the major and very actual issues of The Future of Spine\, Robotics\, Endoscopy\, AI… as well as its economic and ethical issues. \nThe FINAL SCIENTIFIC PROGRAM and all practical information are now available on www.spinesymposium.com \nThis subject will be treated in depth by the following world renown opinion leaders:  \n  \nJean-Jacques Abitbol (San Diego) \nMark Arts (Amsterdam) \nRichard Assaker (Lille) \nScott Blumenthal (Dallas) \nRiccardo Cecchinato (Milan) \nChris Colloca (New York) \nMarcin Czyz (Birmingham) \nRobert Dunn (Cape Town) \nAntonio Faundez (Geneva) \nRolando Garcia (Miami) \nRick Guyer (Dallas) \nSanjay Harhangi (Roterdam) \nChristoph Hofstetter (Seattle) \nScott Kreiner (Phoenix) \nClaudio Lamartina (Milan) \nChristy Lane (Calgary) \nJean-Charles Le Huec (Bordeaux) \nGrace McNamara (Dublin) \nEric Muehlbauer (Chicago) \nDino Samartzis (Chicago) \nAlexander Satin (Dallas) \nIan Vlok (Cape Town) \nDave Wong (Denver) \nAlberto Zerbi (Milan) \nHester Zijlstra (Utrecht) \n 
URL:https://www.neurocirugiachile.org/evento/xxxist-belgian-international-spine-symposium/
CATEGORIES:Internacionales
ATTACH;FMTTYPE=image/png:https://www.neurocirugiachile.org/wp-content/uploads/2025/09/biss_front_2025.png
END:VEVENT
END:VCALENDAR