BEGIN:VCALENDAR
VERSION:2.0
PRODID:-//Sociedad de Neurocirugía de Chile - ECPv6.15.20//NONSGML v1.0//EN
CALSCALE:GREGORIAN
METHOD:PUBLISH
X-ORIGINAL-URL:https://www.neurocirugiachile.org
X-WR-CALDESC:Eventos para Sociedad de Neurocirugía de Chile
REFRESH-INTERVAL;VALUE=DURATION:PT1H
X-Robots-Tag:noindex
X-PUBLISHED-TTL:PT1H
BEGIN:VTIMEZONE
TZID:America/Santiago
BEGIN:STANDARD
TZOFFSETFROM:-0300
TZOFFSETTO:-0400
TZNAME:-04
DTSTART:20250406T030000
END:STANDARD
BEGIN:DAYLIGHT
TZOFFSETFROM:-0400
TZOFFSETTO:-0300
TZNAME:-03
DTSTART:20250907T040000
END:DAYLIGHT
BEGIN:STANDARD
TZOFFSETFROM:-0300
TZOFFSETTO:-0400
TZNAME:-04
DTSTART:20260405T030000
END:STANDARD
BEGIN:DAYLIGHT
TZOFFSETFROM:-0400
TZOFFSETTO:-0300
TZNAME:-03
DTSTART:20260906T040000
END:DAYLIGHT
BEGIN:STANDARD
TZOFFSETFROM:-0300
TZOFFSETTO:-0400
TZNAME:-04
DTSTART:20270404T030000
END:STANDARD
BEGIN:DAYLIGHT
TZOFFSETFROM:-0400
TZOFFSETTO:-0300
TZNAME:-03
DTSTART:20270905T040000
END:DAYLIGHT
END:VTIMEZONE
BEGIN:VEVENT
DTSTART;TZID=America/Santiago:20260131T090000
DTEND;TZID=America/Santiago:20260131T103000
DTSTAMP:20260423T164956
CREATED:20260124T142730Z
LAST-MODIFIED:20260124T142730Z
UID:5291-1769850000-1769855400@www.neurocirugiachile.org
SUMMARY:Webinar: Neurosurgical Oncology Board
DESCRIPTION:Link: https://us06web.zoom.us/j/3873752729?pwd=S25hZEdDN2pOWXcvVzBsWGtNN3F1UT09&omn=87342417915 
URL:https://www.neurocirugiachile.org/evento/webinar-neurosurgical-oncology-board/
CATEGORIES:Internacionales
ATTACH;FMTTYPE=image/jpeg:https://www.neurocirugiachile.org/wp-content/uploads/2026/01/oncology-case-course2026.jpeg
END:VEVENT
END:VCALENDAR