BEGIN:VCALENDAR
VERSION:2.0
PRODID:-//Sociedad de Neurocirugía de Chile - ECPv6.15.20//NONSGML v1.0//EN
CALSCALE:GREGORIAN
METHOD:PUBLISH
X-WR-CALNAME:Sociedad de Neurocirugía de Chile
X-ORIGINAL-URL:https://www.neurocirugiachile.org
X-WR-CALDESC:Eventos para Sociedad de Neurocirugía de Chile
REFRESH-INTERVAL;VALUE=DURATION:PT1H
X-Robots-Tag:noindex
X-PUBLISHED-TTL:PT1H
BEGIN:VTIMEZONE
TZID:America/Santiago
BEGIN:STANDARD
TZOFFSETFROM:-0300
TZOFFSETTO:-0400
TZNAME:-04
DTSTART:20250406T030000
END:STANDARD
BEGIN:DAYLIGHT
TZOFFSETFROM:-0400
TZOFFSETTO:-0300
TZNAME:-03
DTSTART:20250907T040000
END:DAYLIGHT
BEGIN:STANDARD
TZOFFSETFROM:-0300
TZOFFSETTO:-0400
TZNAME:-04
DTSTART:20260405T030000
END:STANDARD
BEGIN:DAYLIGHT
TZOFFSETFROM:-0400
TZOFFSETTO:-0300
TZNAME:-03
DTSTART:20260906T040000
END:DAYLIGHT
BEGIN:STANDARD
TZOFFSETFROM:-0300
TZOFFSETTO:-0400
TZNAME:-04
DTSTART:20270404T030000
END:STANDARD
BEGIN:DAYLIGHT
TZOFFSETFROM:-0400
TZOFFSETTO:-0300
TZNAME:-03
DTSTART:20270905T040000
END:DAYLIGHT
END:VTIMEZONE
BEGIN:VEVENT
DTSTART;TZID=America/Santiago:20260311T130000
DTEND;TZID=America/Santiago:20260311T140000
DTSTAMP:20260423T142712
CREATED:20260304T212111Z
LAST-MODIFIED:20260304T212111Z
UID:5370-1773234000-1773237600@www.neurocirugiachile.org
SUMMARY:Impact of EANS Individual Membership
DESCRIPTION:The EANS Individual Membership (IM) Committee is glad to invite you to its next webinar\, which will discuss the impact and benefits of the EANS Individual Membership. \nThe webinar will feature an outstanding panel of speakers and their talks: \n\nFrancesco Sala\, President of the EANS (Italy) & Michael Bruneau\, EANS Scientific Liaison (Belgium): Organisation and structure of the society\nFrancesco Signorelli\, EANS Individual Membership Committee Member (Italy): How Individual Membership in EANS Strengthens Training\, Career Development\, and Quality of Care in European Neurosurgery\n\nModerators: Markus Wiedman (Norway) and Loredana Mariana Agavriloaei (Romania)\nPanel: Katrin Rabiei (Sweden)\, Eleni Tsianaka (Greece) and Aysegul Aydin (Turkey) \nWhen: 11 March 2026\, 17:00 CET\nRegister free of charge. Don’t wait – the number of registrations is limited! \nRegister here!
URL:https://www.neurocirugiachile.org/evento/impact-of-eans-individual-membership/
CATEGORIES:Internacionales
ATTACH;FMTTYPE=image/jpeg:https://www.neurocirugiachile.org/wp-content/uploads/2026/03/eans-impact-seminar2026.jpg
END:VEVENT
END:VCALENDAR