BEGIN:VCALENDAR
VERSION:2.0
PRODID:-//Sociedad de Neurocirugía de Chile - ECPv6.15.20//NONSGML v1.0//EN
CALSCALE:GREGORIAN
METHOD:PUBLISH
X-WR-CALNAME:Sociedad de Neurocirugía de Chile
X-ORIGINAL-URL:https://www.neurocirugiachile.org
X-WR-CALDESC:Eventos para Sociedad de Neurocirugía de Chile
REFRESH-INTERVAL;VALUE=DURATION:PT1H
X-Robots-Tag:noindex
X-PUBLISHED-TTL:PT1H
BEGIN:VTIMEZONE
TZID:America/Santiago
BEGIN:STANDARD
TZOFFSETFROM:-0300
TZOFFSETTO:-0400
TZNAME:-04
DTSTART:20240407T030000
END:STANDARD
BEGIN:DAYLIGHT
TZOFFSETFROM:-0400
TZOFFSETTO:-0300
TZNAME:-03
DTSTART:20240908T040000
END:DAYLIGHT
BEGIN:STANDARD
TZOFFSETFROM:-0300
TZOFFSETTO:-0400
TZNAME:-04
DTSTART:20250406T030000
END:STANDARD
BEGIN:DAYLIGHT
TZOFFSETFROM:-0400
TZOFFSETTO:-0300
TZNAME:-03
DTSTART:20250907T040000
END:DAYLIGHT
BEGIN:STANDARD
TZOFFSETFROM:-0300
TZOFFSETTO:-0400
TZNAME:-04
DTSTART:20260405T030000
END:STANDARD
BEGIN:DAYLIGHT
TZOFFSETFROM:-0400
TZOFFSETTO:-0300
TZNAME:-03
DTSTART:20260906T040000
END:DAYLIGHT
END:VTIMEZONE
BEGIN:VEVENT
DTSTART;TZID=America/Santiago:20250513T200000
DTEND;TZID=America/Santiago:20250513T210000
DTSTAMP:20260424T031147
CREATED:20250419T140337Z
LAST-MODIFIED:20250419T140857Z
UID:4504-1747166400-1747170000@www.neurocirugiachile.org
SUMMARY:Reunión del Capítulo de Cirugía Vascular Microquirúrgica y Neurointervencional
DESCRIPTION:Tema: Acceso orbitario lateral para el tratamiento de aneurismas\nProfessor Walter Jean\nDía: martes 13 de mayo 2025\nHora: 20.00 horas.\nPlataforma zoom\nhttps://us06web.zoom.us/j/88670467497?pwd=T7f9HQMCbpPevHEZe95GjijahxpavI.1\nID de reunión: 886 7046 7497\nCódigo de acceso: 146280 \nDr. Roberto Díaz R.\nCoordinador Capítulo de Cirugía Vascular \nDr. Luis Contreras S.\nCoordinador Capítulo de Cirugía Vascular
URL:https://www.neurocirugiachile.org/evento/reunion-del-capitulo-de-cirugia-vascular-microquirurgica-y-neurointervencional-2/
CATEGORIES:Nacionales
ATTACH;FMTTYPE=image/webp:https://www.neurocirugiachile.org/wp-content/uploads/2025/04/neuvasc.webp
END:VEVENT
BEGIN:VEVENT
DTSTART;TZID=America/Santiago:20250529T190000
DTEND;TZID=America/Santiago:20250529T203000
DTSTAMP:20260424T031147
CREATED:20250419T001904Z
LAST-MODIFIED:20250512T223436Z
UID:4498-1748545200-1748550600@www.neurocirugiachile.org
SUMMARY:Reunión Capítulo de Neurooncología
DESCRIPTION:Coordinadores: Dr. Rodolfo Muñoz G. y Dr. Francisco Rojas Z.\nWebinar Metástasis Cerebrales\nFecha: jueves 29 de mayo 2025.\nHorario: 19:00 a 20:30 hrs. \nPlataforma Zoom. \n1. Mirada Oncológica. Dra. Emi Sujima – Depto. Neurooncologia Clínica Alemana\n2. Neuroradiologia de la Metástasis cerebral. Dr. Marcelo Jara Neuroradiólogo Hospital Regional de Talca\n3. Neurocirugía de la Metástasis Cerebral. Dr. Felipe Valdivia\n4. Radioterapia de la metástasis cerebral. Dr. José Lorenzoni\nhttps://us06web.zoom.us/j/85008078363?pwd=I87OH7nrssMcw2vZbVPOJAqbOubf8H.1\nID de reunión: 850 0807 8363\nCódigo de acceso: 751956 \nInscripciones:\nJeannette Van Schuerbeck\nEmail: sociedad@neurocirugia.cl\nFono: (+56) 22633 4149 – whatsapp: +56 9 61029322
URL:https://www.neurocirugiachile.org/evento/reunion-capitulo-de-neurooncologia/
CATEGORIES:Nacionales
ATTACH;FMTTYPE=image/jpeg:https://www.neurocirugiachile.org/wp-content/uploads/2025/04/neuro-oncologia.jpg
END:VEVENT
END:VCALENDAR