BEGIN:VCALENDAR
VERSION:2.0
PRODID:-//Sociedad de Neurocirugía de Chile - ECPv6.15.20//NONSGML v1.0//EN
CALSCALE:GREGORIAN
METHOD:PUBLISH
X-WR-CALNAME:Sociedad de Neurocirugía de Chile
X-ORIGINAL-URL:https://www.neurocirugiachile.org
X-WR-CALDESC:Eventos para Sociedad de Neurocirugía de Chile
REFRESH-INTERVAL;VALUE=DURATION:PT1H
X-Robots-Tag:noindex
X-PUBLISHED-TTL:PT1H
BEGIN:VTIMEZONE
TZID:America/Santiago
BEGIN:STANDARD
TZOFFSETFROM:-0300
TZOFFSETTO:-0400
TZNAME:-04
DTSTART:20240407T030000
END:STANDARD
BEGIN:DAYLIGHT
TZOFFSETFROM:-0400
TZOFFSETTO:-0300
TZNAME:-03
DTSTART:20240908T040000
END:DAYLIGHT
BEGIN:STANDARD
TZOFFSETFROM:-0300
TZOFFSETTO:-0400
TZNAME:-04
DTSTART:20250406T030000
END:STANDARD
BEGIN:DAYLIGHT
TZOFFSETFROM:-0400
TZOFFSETTO:-0300
TZNAME:-03
DTSTART:20250907T040000
END:DAYLIGHT
BEGIN:STANDARD
TZOFFSETFROM:-0300
TZOFFSETTO:-0400
TZNAME:-04
DTSTART:20260405T030000
END:STANDARD
BEGIN:DAYLIGHT
TZOFFSETFROM:-0400
TZOFFSETTO:-0300
TZNAME:-03
DTSTART:20260906T040000
END:DAYLIGHT
END:VTIMEZONE
BEGIN:VEVENT
DTSTART;TZID=America/Santiago:20250605T183000
DTEND;TZID=America/Santiago:20250605T200000
DTSTAMP:20260424T013624
CREATED:20250602T234953Z
LAST-MODIFIED:20250602T234953Z
UID:4632-1749148200-1749153600@www.neurocirugiachile.org
SUMMARY:Asamblea Extraordinaria Sociedad de Neurocirugía de Chile
DESCRIPTION:A todos los socios: \nRecordamos la segunda citación a Asamblea Extraordinaria para este jueves 5 de junio a las 18:30 horas en el Colegio Médico de Santiago Centro: Esmeralda 678\, 1er piso\, auditorio Dr. Luis Pino. El objeto es analizar\, discutir y ratificar o no la renuncia definitiva de la sociedad chilena\, a la WFNS que decidió un grupo mayoritario del directorio. \nComo es la segunda\, de acuerdo con los estatutos\, no se requiere de un quórum determinado sino que se constituye con los que asistan y\, para aprobar o rechazar la postura solo se requiere de la mitad + uno de los asistentes. \nPor esto\, es imprescindible que concurran la mayor cantidad de socios para tan trascendental decisión. \nAtte.\,\nSociedad de Neurocirugía de Chile
URL:https://www.neurocirugiachile.org/evento/asamblea-extraordinaria-sociedad-de-neurocirugia-de-chile/
CATEGORIES:Nacionales
END:VEVENT
BEGIN:VEVENT
DTSTART;VALUE=DATE:20250613
DTEND;VALUE=DATE:20250614
DTSTAMP:20260424T013624
CREATED:20250524T184218Z
LAST-MODIFIED:20250524T184218Z
UID:4627-1749772800-1749859199@www.neurocirugiachile.org
SUMMARY:Curso "Principios básicos de cirugía endoscópica de columna"
DESCRIPTION:Ver programa
URL:https://www.neurocirugiachile.org/evento/curso-principios-basicos-de-cirugia-endoscopica-de-columna/
CATEGORIES:Nacionales
ATTACH;FMTTYPE=image/jpeg:https://www.neurocirugiachile.org/wp-content/uploads/2025/05/afiche-curso-columnaSCHOT2025.jpg
END:VEVENT
BEGIN:VEVENT
DTSTART;TZID=America/Santiago:20250614T100000
DTEND;TZID=America/Santiago:20250614T120000
DTSTAMP:20260424T013624
CREATED:20250605T204923Z
LAST-MODIFIED:20250605T204923Z
UID:4636-1749895200-1749902400@www.neurocirugiachile.org
SUMMARY:Capítulo de Neurocirugía Pediátrica #1
DESCRIPTION:PRIMERA REUNIÓN\nSábado 14 de Junio 2025.\nTema: Hemorragia del prematuro\n1- Hemorragia del prematuro: enfoque de neonatología\nInvitado: neonatólogo Hospital Dr. Sótero del Río\n2- Enfrentamiento neuroquirúrico de la hemorragia intraventricular\nNeurocirujano: por confirmar \nÚnase a la reunión de Zoom\nhttps://us06web.zoom.us/j/89234007767?pwd=cPNlCsA71be3a1njaBbTv2TKPVpMw1.1\nID de reunión: 892 3400 7767\nCódigo de acceso: 532362
URL:https://www.neurocirugiachile.org/evento/capitulo-de-neurocirugia-pediatrica-1/
CATEGORIES:Nacionales
END:VEVENT
BEGIN:VEVENT
DTSTART;TZID=America/Santiago:20250617T200000
DTEND;TZID=America/Santiago:20250617T210000
DTSTAMP:20260424T013624
CREATED:20250421T013746Z
LAST-MODIFIED:20250421T013746Z
UID:4508-1750190400-1750194000@www.neurocirugiachile.org
SUMMARY:Reunión del Capítulo de Cirugía Vascular Microquirúrgica y Neurointervencional
DESCRIPTION:Tema: Acceso Miplatta para aneurismas de circulación posterior\nProf. Dr. Jorge Mura C.\nDía: martes 17 de junio 2025\nHora: 20.00 horas\nPlataforma zoom\nhttps://us06web.zoom.us/j/88670467497?pwd=T7f9HQMCbpPevHEZe95GjijahxpavI.1\nID de reunión: 886 7046 7497\nCódigo de acceso: 146280 \nDr. Roberto Díaz R. \nCoordinador\nCapítulo de Cirugía Vascular \nDr. Luis Contreras S.\n Coordinador\nCapítulo de Cirugía Vascular
URL:https://www.neurocirugiachile.org/evento/reunion-del-capitulo-de-cirugia-vascular-microquirurgica-y-neurointervencional-3/
CATEGORIES:Nacionales
ATTACH;FMTTYPE=image/webp:https://www.neurocirugiachile.org/wp-content/uploads/2025/04/neuvasc.webp
END:VEVENT
BEGIN:VEVENT
DTSTART;TZID=America/Santiago:20250626T180000
DTEND;TZID=America/Santiago:20250627T180000
DTSTAMP:20260424T013624
CREATED:20250422T222525Z
LAST-MODIFIED:20250626T011608Z
UID:4511-1750960800-1751047200@www.neurocirugiachile.org
SUMMARY:2as. Jornadas Chileno Uruguayas de Nervio Periférico
DESCRIPTION:Ver programa (PDF)\n\nSEGUNDAS JORNADAS CHILENO URUGUAYAS DE NEUROCIRUGIA DE NERVIO PERIFÉRICO y PRIMERAS JORNADAS LATINOAMERICANAS DE NERVIO PERIFÉRICO\nMODULO: PATOLOGÍA TUMORAL EN NERVIO PERIFÉRICO.\nOrganizan Sociedad de Neurocirugía de Chile /  Sociedad Uruguaya de Neurocirugía / Universidad de Concepción\nFecha 26 y 27 Junio 2025 – 18:00 a 20:30 horas.\nModalidad On Line – Zoom \nInscríbase en la fecha y horario que más le convengan: \nhttps://uchile.zoom.us/meeting/register/n1AC47iqQravaDK3-4Wc-Q \nLuego de la inscripción\, recibirá un correo electrónico de confirmación con información para unirse al seminario web. \n 
URL:https://www.neurocirugiachile.org/evento/2as-jornadas-chileno-uruguayas-de-nervio-periferico/
CATEGORIES:Internacionales,Nacionales
ATTACH;FMTTYPE=image/webp:https://www.neurocirugiachile.org/wp-content/uploads/2025/04/sistema-nervioso-periferico.webp
END:VEVENT
END:VCALENDAR