BEGIN:VCALENDAR
VERSION:2.0
PRODID:-//Sociedad de Neurocirugía de Chile - ECPv6.15.20//NONSGML v1.0//EN
CALSCALE:GREGORIAN
METHOD:PUBLISH
X-WR-CALNAME:Sociedad de Neurocirugía de Chile
X-ORIGINAL-URL:https://www.neurocirugiachile.org
X-WR-CALDESC:Eventos para Sociedad de Neurocirugía de Chile
REFRESH-INTERVAL;VALUE=DURATION:PT1H
X-Robots-Tag:noindex
X-PUBLISHED-TTL:PT1H
BEGIN:VTIMEZONE
TZID:America/Santiago
BEGIN:STANDARD
TZOFFSETFROM:-0300
TZOFFSETTO:-0400
TZNAME:-04
DTSTART:20240407T030000
END:STANDARD
BEGIN:DAYLIGHT
TZOFFSETFROM:-0400
TZOFFSETTO:-0300
TZNAME:-03
DTSTART:20240908T040000
END:DAYLIGHT
BEGIN:STANDARD
TZOFFSETFROM:-0300
TZOFFSETTO:-0400
TZNAME:-04
DTSTART:20250406T030000
END:STANDARD
BEGIN:DAYLIGHT
TZOFFSETFROM:-0400
TZOFFSETTO:-0300
TZNAME:-03
DTSTART:20250907T040000
END:DAYLIGHT
BEGIN:STANDARD
TZOFFSETFROM:-0300
TZOFFSETTO:-0400
TZNAME:-04
DTSTART:20260405T030000
END:STANDARD
BEGIN:DAYLIGHT
TZOFFSETFROM:-0400
TZOFFSETTO:-0300
TZNAME:-03
DTSTART:20260906T040000
END:DAYLIGHT
END:VTIMEZONE
BEGIN:VEVENT
DTSTART;TZID=America/Santiago:20250812T200000
DTEND;TZID=America/Santiago:20250812T213000
DTSTAMP:20260423T223519
CREATED:20250711T030144Z
LAST-MODIFIED:20250711T030152Z
UID:4723-1755028800-1755034200@www.neurocirugiachile.org
SUMMARY:Capítulo de Cirugía Vascular: Cavernomas de Tronco
DESCRIPTION:Tema: Cavernomas de Tronco\nDr. Giuseppe Lanzino\, (Mayo Clinic\, USA)\nDía: Martes 12 de Agosto de 2025\nHora: 20.00 horas \nhttps://us06web.zoom.us/j/88692563161?pwd=7g9mGeh89fal1sEufc30Zbduimhmfi.1 \nID de reunión: 886 9256 3161\nCódigo de acceso: 585909 \nDr. Roberto Díaz R.\nDr. Luis Contreras S.\nCoordinadores\nCapítulo de Cirugía Vascular
URL:https://www.neurocirugiachile.org/evento/capitulo-de-cirugia-vascular-cavernomas-de-tronco/
CATEGORIES:Nacionales
END:VEVENT
END:VCALENDAR