BEGIN:VCALENDAR
VERSION:2.0
PRODID:-//Sociedad de Neurocirugía de Chile - ECPv6.15.20//NONSGML v1.0//EN
CALSCALE:GREGORIAN
METHOD:PUBLISH
X-ORIGINAL-URL:https://www.neurocirugiachile.org
X-WR-CALDESC:Eventos para Sociedad de Neurocirugía de Chile
REFRESH-INTERVAL;VALUE=DURATION:PT1H
X-Robots-Tag:noindex
X-PUBLISHED-TTL:PT1H
BEGIN:VTIMEZONE
TZID:America/Santiago
BEGIN:STANDARD
TZOFFSETFROM:-0300
TZOFFSETTO:-0400
TZNAME:-04
DTSTART:20240407T030000
END:STANDARD
BEGIN:DAYLIGHT
TZOFFSETFROM:-0400
TZOFFSETTO:-0300
TZNAME:-03
DTSTART:20240908T040000
END:DAYLIGHT
BEGIN:STANDARD
TZOFFSETFROM:-0300
TZOFFSETTO:-0400
TZNAME:-04
DTSTART:20250406T030000
END:STANDARD
BEGIN:DAYLIGHT
TZOFFSETFROM:-0400
TZOFFSETTO:-0300
TZNAME:-03
DTSTART:20250907T040000
END:DAYLIGHT
BEGIN:STANDARD
TZOFFSETFROM:-0300
TZOFFSETTO:-0400
TZNAME:-04
DTSTART:20260405T030000
END:STANDARD
BEGIN:DAYLIGHT
TZOFFSETFROM:-0400
TZOFFSETTO:-0300
TZNAME:-03
DTSTART:20260906T040000
END:DAYLIGHT
END:VTIMEZONE
BEGIN:VEVENT
DTSTART;TZID=America/Santiago:20250614T100000
DTEND;TZID=America/Santiago:20250614T120000
DTSTAMP:20260424T031829
CREATED:20250605T204923Z
LAST-MODIFIED:20250605T204923Z
UID:4636-1749895200-1749902400@www.neurocirugiachile.org
SUMMARY:Capítulo de Neurocirugía Pediátrica #1
DESCRIPTION:PRIMERA REUNIÓN\nSábado 14 de Junio 2025.\nTema: Hemorragia del prematuro\n1- Hemorragia del prematuro: enfoque de neonatología\nInvitado: neonatólogo Hospital Dr. Sótero del Río\n2- Enfrentamiento neuroquirúrico de la hemorragia intraventricular\nNeurocirujano: por confirmar \nÚnase a la reunión de Zoom\nhttps://us06web.zoom.us/j/89234007767?pwd=cPNlCsA71be3a1njaBbTv2TKPVpMw1.1\nID de reunión: 892 3400 7767\nCódigo de acceso: 532362
URL:https://www.neurocirugiachile.org/evento/capitulo-de-neurocirugia-pediatrica-1/
CATEGORIES:Nacionales
END:VEVENT
END:VCALENDAR