BEGIN:VCALENDAR
VERSION:2.0
PRODID:-//Sociedad de Neurocirugía de Chile - ECPv6.15.20//NONSGML v1.0//EN
CALSCALE:GREGORIAN
METHOD:PUBLISH
X-ORIGINAL-URL:https://www.neurocirugiachile.org
X-WR-CALDESC:Eventos para Sociedad de Neurocirugía de Chile
REFRESH-INTERVAL;VALUE=DURATION:PT1H
X-Robots-Tag:noindex
X-PUBLISHED-TTL:PT1H
BEGIN:VTIMEZONE
TZID:America/Santiago
BEGIN:STANDARD
TZOFFSETFROM:-0300
TZOFFSETTO:-0400
TZNAME:-04
DTSTART:20240407T030000
END:STANDARD
BEGIN:DAYLIGHT
TZOFFSETFROM:-0400
TZOFFSETTO:-0300
TZNAME:-03
DTSTART:20240908T040000
END:DAYLIGHT
BEGIN:STANDARD
TZOFFSETFROM:-0300
TZOFFSETTO:-0400
TZNAME:-04
DTSTART:20250406T030000
END:STANDARD
BEGIN:DAYLIGHT
TZOFFSETFROM:-0400
TZOFFSETTO:-0300
TZNAME:-03
DTSTART:20250907T040000
END:DAYLIGHT
BEGIN:STANDARD
TZOFFSETFROM:-0300
TZOFFSETTO:-0400
TZNAME:-04
DTSTART:20260405T030000
END:STANDARD
BEGIN:DAYLIGHT
TZOFFSETFROM:-0400
TZOFFSETTO:-0300
TZNAME:-03
DTSTART:20260906T040000
END:DAYLIGHT
END:VTIMEZONE
BEGIN:VEVENT
DTSTART;VALUE=DATE:20251106
DTEND;VALUE=DATE:20251109
DTSTAMP:20260423T194456
CREATED:20250617T015818Z
LAST-MODIFIED:20250910T195008Z
UID:4687-1762387200-1762646399@www.neurocirugiachile.org
SUMMARY:LXVII Congreso Chileno de Neurocirugía (Talca)
DESCRIPTION:El LXVII Congreso Chileno de Neurocirugía se llevará a cabo los días Jueves 6\, Viernes 7 y Sábado 8 de Noviembre 2025 en el Hotel Casino Talca. \nOrganizan: Hospital Regional de Talca y Sociedad de Neurocirugía de Chile. \n\nVer minisitio aquí
URL:https://www.neurocirugiachile.org/evento/lxvii-congreso-chileno-de-neurocirugia-talca/
CATEGORIES:Nacionales
END:VEVENT
END:VCALENDAR