BEGIN:VCALENDAR
VERSION:2.0
PRODID:-//Sociedad de Neurocirugía de Chile - ECPv6.15.20//NONSGML v1.0//EN
CALSCALE:GREGORIAN
METHOD:PUBLISH
X-ORIGINAL-URL:https://www.neurocirugiachile.org
X-WR-CALDESC:Eventos para Sociedad de Neurocirugía de Chile
REFRESH-INTERVAL;VALUE=DURATION:PT1H
X-Robots-Tag:noindex
X-PUBLISHED-TTL:PT1H
BEGIN:VTIMEZONE
TZID:America/Santiago
BEGIN:STANDARD
TZOFFSETFROM:-0300
TZOFFSETTO:-0400
TZNAME:-04
DTSTART:20240407T030000
END:STANDARD
BEGIN:DAYLIGHT
TZOFFSETFROM:-0400
TZOFFSETTO:-0300
TZNAME:-03
DTSTART:20240908T040000
END:DAYLIGHT
BEGIN:STANDARD
TZOFFSETFROM:-0300
TZOFFSETTO:-0400
TZNAME:-04
DTSTART:20250406T030000
END:STANDARD
BEGIN:DAYLIGHT
TZOFFSETFROM:-0400
TZOFFSETTO:-0300
TZNAME:-03
DTSTART:20250907T040000
END:DAYLIGHT
BEGIN:STANDARD
TZOFFSETFROM:-0300
TZOFFSETTO:-0400
TZNAME:-04
DTSTART:20260405T030000
END:STANDARD
BEGIN:DAYLIGHT
TZOFFSETFROM:-0400
TZOFFSETTO:-0300
TZNAME:-03
DTSTART:20260906T040000
END:DAYLIGHT
END:VTIMEZONE
BEGIN:VEVENT
DTSTART;VALUE=DATE:20251120
DTEND;VALUE=DATE:20251123
DTSTAMP:20260423T194610
CREATED:20251014T121610Z
LAST-MODIFIED:20251014T121610Z
UID:5047-1763596800-1763855999@www.neurocirugiachile.org
SUMMARY:2da versión del Curso Hands-On en Neuroanatomía Microquirúrgica
DESCRIPTION:«2da Versión del Curso Hands-On en Neuroanatomía Microquirúrgica» a realizarse los próximos días 20-22 de noviembre 2025 en el Departamento de Anatomía y Medicina Legal de la Universidad de Chile. \nLa parte teórico-práctica de este curso está dirigida a neurocirujanos o residentes de neurocirugía de último año. La parte sólo teórica está dirigida a profesionales de la salud con interés en el área (asistencia a charlas científicas y uso de anteojos 3D pasivos). \nValor de inscripción:  \nCupos teórico-prácticos (10 cupos)\nEarly bird (hasta el 26 de octubre): 900.000 CLP (1000 dólares)\nDesde el 27 de octubre: 1.200.000 CLP (1300 dólares) \nCupos teóricos (15 cupos): 150.000 CLP (150 dólares) \nEl programa científico está aún en desarrollo\, pero contempla las siguientes áreas de la neurocirugía: \n\nAnatomía de la región anterolateral del craneo y colgajo interfascial-subpericraneo\nAbordaje minipterional y pterional a las cisternas basales. Apertura del Valle silviano.\nClinoidectomía anterior extradural: paso a paso\nAbordaje MIPLATTA\nAbordajes Far lateral y telovelar al piso del cuarto ventrículo\nAbordaje transnasal endoscópico a la región selar\n\nLa modalidad teórica incluye charlas científicas puntuales relacionadas a lo que se realizará en laboratorio y uso de anteojos 3D pasivos. \nLa jornada social incluye un cocktel de bienvenida \nInteresados\, escribir a tompoblete@gmail.com
URL:https://www.neurocirugiachile.org/evento/2da-version-del-curso-hands-on-en-neuroanatomia-microquirurgica/
CATEGORIES:Nacionales
ATTACH;FMTTYPE=image/jpeg:https://www.neurocirugiachile.org/wp-content/uploads/2025/10/curso-cadaverico-noviembre2025.jpg
END:VEVENT
END:VCALENDAR