BEGIN:VCALENDAR
VERSION:2.0
PRODID:-//Sociedad de Neurocirugía de Chile - ECPv6.15.20//NONSGML v1.0//EN
CALSCALE:GREGORIAN
METHOD:PUBLISH
X-ORIGINAL-URL:https://www.neurocirugiachile.org
X-WR-CALDESC:Eventos para Sociedad de Neurocirugía de Chile
REFRESH-INTERVAL;VALUE=DURATION:PT1H
X-Robots-Tag:noindex
X-PUBLISHED-TTL:PT1H
BEGIN:VTIMEZONE
TZID:America/Santiago
BEGIN:STANDARD
TZOFFSETFROM:-0300
TZOFFSETTO:-0400
TZNAME:-04
DTSTART:20250406T030000
END:STANDARD
BEGIN:DAYLIGHT
TZOFFSETFROM:-0400
TZOFFSETTO:-0300
TZNAME:-03
DTSTART:20250907T040000
END:DAYLIGHT
BEGIN:STANDARD
TZOFFSETFROM:-0300
TZOFFSETTO:-0400
TZNAME:-04
DTSTART:20260405T030000
END:STANDARD
BEGIN:DAYLIGHT
TZOFFSETFROM:-0400
TZOFFSETTO:-0300
TZNAME:-03
DTSTART:20260906T040000
END:DAYLIGHT
BEGIN:STANDARD
TZOFFSETFROM:-0300
TZOFFSETTO:-0400
TZNAME:-04
DTSTART:20270404T030000
END:STANDARD
BEGIN:DAYLIGHT
TZOFFSETFROM:-0400
TZOFFSETTO:-0300
TZNAME:-03
DTSTART:20270905T040000
END:DAYLIGHT
END:VTIMEZONE
BEGIN:VEVENT
DTSTART;VALUE=DATE:20260412
DTEND;VALUE=DATE:20260417
DTSTAMP:20260423T135627
CREATED:20260124T141239Z
LAST-MODIFIED:20260124T143150Z
UID:5288-1775952000-1776383999@www.neurocirugiachile.org
SUMMARY:4th ANI Live Microneurosurgery Course
DESCRIPTION:Ver brochure PDF\nInscripciones: https://forms.gle/mm3aQ8FGeFkuMLHV8
URL:https://www.neurocirugiachile.org/evento/4th-ani-live-microneurosurgery-course/
CATEGORIES:Internacionales
ATTACH;FMTTYPE=image/png:https://www.neurocirugiachile.org/wp-content/uploads/2026/01/ANI-livecourse-Arkansas.png
END:VEVENT
BEGIN:VEVENT
DTSTART;VALUE=DATE:20260415
DTEND;VALUE=DATE:20260419
DTSTAMP:20260423T135627
CREATED:20260213T174340Z
LAST-MODIFIED:20260213T174515Z
UID:5322-1776211200-1776556799@www.neurocirugiachile.org
SUMMARY:VII Congreso Mundial de Cirugía Endoscópica de Columna & MISS (México)
DESCRIPTION:Descargar Programa Preliminar PDF aquí
URL:https://www.neurocirugiachile.org/evento/vii-congreso-mundial-de-cirugia-endoscopica-de-columna-miss-mexico/
CATEGORIES:Internacionales
ATTACH;FMTTYPE=image/jpeg:https://www.neurocirugiachile.org/wp-content/uploads/2026/02/mexicoMISS2026.jpg
END:VEVENT
BEGIN:VEVENT
DTSTART;VALUE=DATE:20260416
DTEND;VALUE=DATE:20260419
DTSTAMP:20260423T135627
CREATED:20251223T000152Z
LAST-MODIFIED:20251223T000258Z
UID:5256-1776297600-1776556799@www.neurocirugiachile.org
SUMMARY:Advanced Endoscopic Skull Base Surgery Course - Columbus\, Ohio
DESCRIPTION:Foundational Course • The Fundamentals of Endoscopic Skull Base Surgery • Principles of Expanded Endoscopic Endonasal Approaches • The Sinonasal Corridor • Anatomy of the Sinonasal Tract & Skull Base (Extradural) • Anatomy of the Cranial Nerves and Cerebral Circulation (Extradural) • Reconstruction of the Skull Base: From Free Grafting to Vascularized Flaps •  Sagittal Plane EEA Modules I: Trans-sellar\, Trans-planum\, and Trans-cribiform • Approach to Imaging of the Cranial Base • Endovascular Approach: How I Can Get You Out of Trouble (even deep\, deep\, deep… trouble) • Sagittal Plane Modules II: Trans-clival\, Trans-odontoid •  Trans-orbital Endonasal Approaches • Endoscopic Anterior Skull Base Resection for Sinonasal Malignancy: Principles and Outcomes\n• Anatomical Basis for the Transpterygoid Approaches.\n\nContact and Registration: \npat@academiceventmanagement.com \nwww.academiceventmanagement.com \n 
URL:https://www.neurocirugiachile.org/evento/advanced-endoscopic-skull-base-surgery-course-columbus-ohio/
CATEGORIES:Internacionales
ATTACH;FMTTYPE=image/png:https://www.neurocirugiachile.org/wp-content/uploads/2025/12/ohio2026.png
END:VEVENT
BEGIN:VEVENT
DTSTART;VALUE=DATE:20260429
DTEND;VALUE=DATE:20260501
DTSTAMP:20260423T135627
CREATED:20250826T013112Z
LAST-MODIFIED:20250826T013112Z
UID:4943-1777420800-1777593599@www.neurocirugiachile.org
SUMMARY:Endoscopic Transorbital Route to the Skull Base – Live Surgery & Hands On Course ∞ Barcelona\, Spain
DESCRIPTION:Endoscopic transorbital route to the skull base ● Live surgery and clinical case presentation ● Endoscopic Transorbital Approach to the Skull Base ● Full-Day Lab workflow ● Superior eyelid Transorbital Approach ● Periorbita and Lateral Orbital Rim Exposure ● Working Space\, temporal muscle exposure ● Temporal Dura\, wide and central ● Lesser Sphenoid wing (pterion) & Frontobasal bone removal; MOB cut ● Anterior Clinoidectomy ● Endoscopic Transorbital Surgery to the Skull Base. The Barcelona Experience ● Sagittal Crest & Middle cranial fossa floor drilling ● Cavernous Sinus Peeling and Dissection ● Anterior petrosectomy including Lateral orbital Rim Removal ● Dura opening\, intradural dissection.\n\nContact and Information: \ninfo@aventik.es \nwww.aventik.es
URL:https://www.neurocirugiachile.org/evento/endoscopic-transorbital-route-to-the-skull-base-live-surgery-hands-on-course-%e2%88%9e-barcelona-spain/
CATEGORIES:Internacionales
ATTACH;FMTTYPE=image/png:https://www.neurocirugiachile.org/wp-content/uploads/2025/08/ENT_BARCELONA_26.png
END:VEVENT
BEGIN:VEVENT
DTSTART;VALUE=DATE:20260507
DTEND;VALUE=DATE:20260509
DTSTAMP:20260423T135627
CREATED:20260316T204717Z
LAST-MODIFIED:20260316T204717Z
UID:5384-1778112000-1778284799@www.neurocirugiachile.org
SUMMARY:EANS Chronic Subdural Hematoma Hands-on Course (Rome)
DESCRIPTION:Dear Colleagues and Friends\, \nRegistration is open for the EANS Chronic Subdural Hematoma Hands-on Course entitled “Middle Meningeal Artery (MMA) Techniques & Surgical Perspectives from Scalpel to Microcatheter”\, which will take place on 7-8 May 2026 in beautiful Rome\, Italy. \nChronic subdural hematomas (cSDHs) represent one of the most common neurosurgical conditions\, particularly in elderly populations. While traditional surgical techniques such as burr-hole evacuation have long been the standard of care\, there has been growing interest in minimally invasive alternatives to improve outcomes and reduce recurrence rates. Among these\, middle meningeal artery (MMA) embolization has emerged as a groundbreaking treatment option\, offering a less invasive yet highly effective approach\, especially to avoid recurrences. \nConsidering the above\, there is an urgent need for a dedicated training course tailored specifically for neurosurgeons\, highlighting the MMA embolization technique as an essential addition to the armamentarium of modern neurosurgeons. The Course aims to provide: \n\nTheoretical grounding in the pathophysiology and indications for surgery and MMA embolization.\nHands-on practical training using simulators and real-world scenarios to familiarize participants with the procedural steps.\nExpert insights into patient selection\, perioperative management\, and long-term follow-up strategies.\nA platform to understand how this technique can be seamlessly integrated into neurosurgical practice\, alongside traditional surgical interventions.\nPros and Cons of each device (coils\, EVOH\, glue etc) used for MMA Embolization\nA network between young neurosurgeons interested in endovascular techniques and senior experts.\n\nWe look forward to seeing you in Rome! \nLEARN MORE & REGISTER
URL:https://www.neurocirugiachile.org/evento/eans-chronic-subdural-hematoma-hands-on-course-rome-2/
CATEGORIES:Internacionales
ATTACH;FMTTYPE=image/jpeg:https://www.neurocirugiachile.org/wp-content/uploads/2026/03/EANSsubdural-hematoma2026.jpg
END:VEVENT
BEGIN:VEVENT
DTSTART;VALUE=DATE:20260511
DTEND;VALUE=DATE:20260516
DTSTAMP:20260423T135627
CREATED:20251022T213202Z
LAST-MODIFIED:20251022T213202Z
UID:5063-1778457600-1778889599@www.neurocirugiachile.org
SUMMARY:ISSLS/SASS Annual Meeting 2026
DESCRIPTION:Dear Colleagues\,\nDear Friends\, \nWe would kindly like to remind that the abstract submission deadline for ISSLS/SASS Annual Meeting 2026 is now rapidly approaching.  \nThe Meeting will take place at the Westin Cape Town from 11 – 15 May 2026. For this edition we will be joined by all members of the South African Spine Society. \nConference registration\, abstract  submission platform and hotel accommodation are open. Please find more information below.  \nTogether with the Organising Committee we look forward to welcoming many of you to Cape Town from 11- 15 May 2026! \nYours sincerely\,\nLocal hosts\,\nIan Vlok & Robert Gunzburg
URL:https://www.neurocirugiachile.org/evento/issls-sass-annual-meeting-2026/
CATEGORIES:Internacionales
ATTACH;FMTTYPE=image/png:https://www.neurocirugiachile.org/wp-content/uploads/2025/10/sass2026.png
END:VEVENT
BEGIN:VEVENT
DTSTART;VALUE=DATE:20260514
DTEND;VALUE=DATE:20260518
DTSTAMP:20260423T135627
CREATED:20260131T143221Z
LAST-MODIFIED:20260131T143329Z
UID:5313-1778716800-1779062399@www.neurocirugiachile.org
SUMMARY:9th MASSIN Congress\, ICCVS & INU 2026 (Mumbai\, India)
DESCRIPTION:Link: https://www.massin2026.com/index.html
URL:https://www.neurocirugiachile.org/evento/9th-massin-congress-iccvs-inu-2026-mumbai-india/
CATEGORIES:Internacionales
ATTACH;FMTTYPE=image/jpeg:https://www.neurocirugiachile.org/wp-content/uploads/2026/01/mumbai-india2026.jpg
END:VEVENT
BEGIN:VEVENT
DTSTART;VALUE=DATE:20260518
DTEND;VALUE=DATE:20260519
DTSTAMP:20260423T135627
CREATED:20260408T152531Z
LAST-MODIFIED:20260408T152531Z
UID:5402-1779062400-1779148799@www.neurocirugiachile.org
SUMMARY:ISPN Course: Ventricular & Port-Brain Surgery / Pre-Congress Course
DESCRIPTION:
URL:https://www.neurocirugiachile.org/evento/ispn-course-ventricular-port-brain-surgery-pre-congress-course/
CATEGORIES:Internacionales
ATTACH;FMTTYPE=image/jpeg:https://www.neurocirugiachile.org/wp-content/uploads/2026/04/ispnbuenossires.jpg
END:VEVENT
BEGIN:VEVENT
DTSTART;VALUE=DATE:20260520
DTEND;VALUE=DATE:20260524
DTSTAMP:20260423T135627
CREATED:20260129T203851Z
LAST-MODIFIED:20260129T203851Z
UID:5304-1779235200-1779580799@www.neurocirugiachile.org
SUMMARY:3rd WFNS Vascular Symposium (Prague\, Czech Republic)
DESCRIPTION:We are happy to inform you that the 3rd WFNS Vascular Symposium will be held in Prague\, Czech Republic\, from 20 to 23 May 2026. \nThis international meeting will bring together specialists in neurosurgical vascular medicine to discuss current challenges\, present clinical and research advances\, and highlight emerging approaches. \n\nLink event
URL:https://www.neurocirugiachile.org/evento/3rd-wfns-vascular-symposium-prague-czech-republic/
CATEGORIES:Internacionales
ATTACH;FMTTYPE=image/jpeg:https://www.neurocirugiachile.org/wp-content/uploads/2026/01/prague2026.jpg
END:VEVENT
BEGIN:VEVENT
DTSTART;VALUE=DATE:20260528
DTEND;VALUE=DATE:20260531
DTSTAMP:20260423T135627
CREATED:20260130T175916Z
LAST-MODIFIED:20260130T175916Z
UID:5310-1779926400-1780185599@www.neurocirugiachile.org
SUMMARY:15th Annual EANS Young Neurosurgeons’ Meeting (Faro\, Portugal)
DESCRIPTION:Abstract Submission is open! \nWe are thrilled to invite you to the 15th Annual EANS Young Neurosurgeons’ Meeting\,  taking place in Faro\, Portugal\, from 28-30 May 2026. \nThis year’s meeting will focus on Neurotrauma\, offering an in-depth exploration of state-of-the-art advancements\, ongoing challenges\, and key controversies in the field. Join senior experts and fellow young neurosurgeons for lively\, thought-provoking discussions in a highly interactive learning environment. \nThe programme will feature case-based sessions designed to foster direct exchange between participants\, EANS faculty\, and peers\, allowing you to explore the most effective and up-to-date management strategies for complex neurotrauma cases. \nIn line with our mission to make Young Neurosurgeons the true protagonists of the meeting\, we warmly invite you to submit your abstracts in the following areas: \n\nTraumatic Brain Injury\nSpinal Trauma\nPeripheral Nerve Injury\n\nThe best abstracts will be selected for presentation in dedicated oral sessions\, where the presenting authors will have the opportunity to present their work in-depth. The remaining abstracts will be showcased during specific oral E-poster sessions. \nSUBMIT YOUR ABSTRACT \nAbstract and submission deadline: 15 March 2026 \nRegistration for the meeting — as well as the pre-meeting hands-on workshops on 28 May — will open soon. \nDon’t miss out on one of the premier events for young neurosurgeons! Seize the opportunity to be part of this exceptional meeting! \nLEARN MORE \nWe are looking forward to seeing you all in Faro! \nOn behalf of the EANS Young Neurosurgeons’ Committee\, \nMilan Lepić\,\nEANS YNC Chair
URL:https://www.neurocirugiachile.org/evento/15th-annual-eans-young-neurosurgeons-meeting-faro-portugal/
CATEGORIES:Internacionales
ATTACH;FMTTYPE=image/jpeg:https://www.neurocirugiachile.org/wp-content/uploads/2026/01/YNM2026pageheader.jpg
END:VEVENT
BEGIN:VEVENT
DTSTART;VALUE=DATE:20260611
DTEND;VALUE=DATE:20260613
DTSTAMP:20260423T135627
CREATED:20260309T204012Z
LAST-MODIFIED:20260309T204344Z
UID:5376-1781136000-1781308799@www.neurocirugiachile.org
SUMMARY:EANS Pediatric and Cerebrospinal Fluid Sections
DESCRIPTION:Dear colleagues and friends\, \nWe would like to invite you all to the very first meeting of the EANS Section of Pediatric Neurosurgery\, organized jointly with the EANS CSF Section and in cooperation with K.G. Jebsen Centre for Brain Fluid Research\, University of Oslo. \nIn this meeting\, we will focus on unsolved challenges in difficult and complex clinical conditions associated with disturbance of cerebrospinal fluid in both adult and pediatric patients. We will also explore the newest advances within research of the pathophysiology behind these disorders. Let us gather to discuss\, learn from each other and gain new insights for further work on these challenging problems in our patients. \nAnd of course\, let us take advantage of the opportunity to meet informally in the Norwegian capital city during its brightest\, warmest\, and longest days of the year. \nREGISTER HERE \nIt will be a great pleasure to welcome you to Oslo on 11-12 June! \nWarm regards\, \nRadek Frič\, Chair of the EANS Section of Pediatric Neurosurgery\nJürgen Beck\, Chair of the EANS CSF Section\nPer Kristian Eide\, Director\, K.G. Jebsen Centre for Brain Fluid Research\, University of Oslo \nPlease contact community@eans.org for any questions related to registration.
URL:https://www.neurocirugiachile.org/evento/eans-pediatric-and-cerebrospinal-fluid-sections/
CATEGORIES:Internacionales
ATTACH;FMTTYPE=image/jpeg:https://www.neurocirugiachile.org/wp-content/uploads/2026/03/oslo-pediatric2026.jpg
END:VEVENT
BEGIN:VEVENT
DTSTART;VALUE=DATE:20260611
DTEND;VALUE=DATE:20260613
DTSTAMP:20260423T135627
CREATED:20260406T001447Z
LAST-MODIFIED:20260406T001447Z
UID:5394-1781136000-1781308799@www.neurocirugiachile.org
SUMMARY:Jornadas Invernales de Epilepsia 2026
DESCRIPTION:Ver programa aquí
URL:https://www.neurocirugiachile.org/evento/jornadas-invernales-de-epilepsia-2026/
CATEGORIES:Nacionales
ATTACH;FMTTYPE=image/jpeg:https://www.neurocirugiachile.org/wp-content/uploads/2026/04/XXVJornadasInvernalesEpilepsia.jpg
END:VEVENT
BEGIN:VEVENT
DTSTART;VALUE=DATE:20260615
DTEND;VALUE=DATE:20260619
DTSTAMP:20260423T135627
CREATED:20260216T014600Z
LAST-MODIFIED:20260216T014600Z
UID:5327-1781481600-1781827199@www.neurocirugiachile.org
SUMMARY:The 18th Asian Australasian Congress of Neurological Surgeons (Philippines)
DESCRIPTION:Unity in Neurosurgery: Linking Asia from Local to Global \n15 – 18 June 2026: Main Congress and Exhibition \nVenue: SMX Convention Centre\, Mall of Asia Complex\, Seashell Ln\, Pasay\, 1300 Metro Manila\, Philippines\n\nhttps://aacns2026.org/
URL:https://www.neurocirugiachile.org/evento/the-18th-asian-australasian-congress-of-neurological-surgeons-philippines/
CATEGORIES:Internacionales
ATTACH;FMTTYPE=image/png:https://www.neurocirugiachile.org/wp-content/uploads/2026/02/banner-filpiinas2026.png
END:VEVENT
BEGIN:VEVENT
DTSTART;VALUE=DATE:20260618
DTEND;VALUE=DATE:20260621
DTSTAMP:20260423T135627
CREATED:20251127T230639Z
LAST-MODIFIED:20251127T230639Z
UID:5118-1781740800-1781999999@www.neurocirugiachile.org
SUMMARY:10th World Congress for Endoscopic Surgery of Sinuses\, Skull Base\, Brain\, Spine & Orbit ∞ Athens\, Greece
DESCRIPTION:Welcome to the EndoAthens ● Join us for the premier event in Endoscopic Surgery of Paranasal sinuses\, Skull Base\, Brain\, Spine & Orbit where experts from around the globe will convene to discuss the latest advancements\, techniques\, and research in the field ● Everyone\, from resident to expert! ● Otolaryngologist ● Head and Neck surgeons ● Neurosurgeons ● Skull-base surgeons ● Ophthalmologists ● Radiologists ● Orthopaedic surgeons ● The next big improvement in spine ● Scientists ● Finally\, clinicians that really want to listen to you ● A History of Endoscopy!!! ●\n\nContact and Information: \ninfo@endoathens.com \nhttps://endoathens.com
URL:https://www.neurocirugiachile.org/evento/10th-world-congress-for-endoscopic-surgery-of-sinuses-skull-base-brain-spine-orbit-%e2%88%9e-athens-greece/
CATEGORIES:Internacionales
ATTACH;FMTTYPE=image/png:https://www.neurocirugiachile.org/wp-content/uploads/2025/11/endoathens2026.png
END:VEVENT
BEGIN:VEVENT
DTSTART;VALUE=DATE:20260722
DTEND;VALUE=DATE:20260725
DTSTAMP:20260423T135627
CREATED:20260320T115645Z
LAST-MODIFIED:20260320T120201Z
UID:5387-1784678400-1784937599@www.neurocirugiachile.org
SUMMARY:6th Annual Update in Neuro-Oncology Harvard Medical School CME Course
DESCRIPTION:Dear Chilean Society of Neuro-Oncology\, \nOn behalf of course director Dr. Tracy Batchelor\, we hope that you will forward this announcement and link below to your members and colleagues. \n\nDownload agenda here\n\nWe are delighted to invite you to the 6th Annual Update in Neuro-Oncology\, a Harvard Medical School–accredited live virtual CME course taking place July 22-22\, 2026. The 3‑day course is designed to provide an international audience with a comprehensive review of the diagnosis and management of pediatric and adult patients with primary and metastatic CNS and PNS tumors\, specific neurogenetic syndromes\, and neurological complications of cancer. Over 30 faculty from Harvard Medical School\, and leaders pioneering the field of cancer neuroscience\, will present and participate in live Q&A. Designed for faculty\, trainees\, and nursing professionals\, the course will also be recorded and available for 60 days of on‑demand viewing. The course is fully accredited for CME credit. \nEarly Registration is open through June 15\, 2026 \nA detailed agenda is attached. Full course details and registration information can be found here: https://learn.hms.harvard.edu/programs/annual-update-neuro-oncology \nStudents and trainees are eligible for a reduced rate by emailing Olga\, Course Administrator: okatsovskiy@bwh.harvard.edu. \nWe hope this opportunity will be valuable to your members\, and we appreciate your help in sharing it widely. \nWarm regards\, \nTracy Batchelor\, M.D.\nAntonio Chiocca\, M.D.\, Ph.D.\nPatrick Wen\, M.D.
URL:https://www.neurocirugiachile.org/evento/6th-annual-update-in-neuro-oncology-harvard-medical-school-cme-course/
CATEGORIES:Internacionales
ATTACH;FMTTYPE=image/png:https://www.neurocirugiachile.org/wp-content/uploads/2026/03/5thAnnualUpdateNeuro-OncologyHarvard.png
END:VEVENT
BEGIN:VEVENT
DTSTART;VALUE=DATE:20260816
DTEND;VALUE=DATE:20260822
DTSTAMP:20260423T135627
CREATED:20251208T020420Z
LAST-MODIFIED:20251208T020420Z
UID:5239-1786838400-1787356799@www.neurocirugiachile.org
SUMMARY:AO Latin America Regional Courses 2026
DESCRIPTION:De nuestra consideración\, \nEn nombre de AO Latinoamérica\, me complace presentarles nuestro próximo evento AO Latin America Regional Courses 2026\, que se llevará a cabo en agosto de 2026\, en Santiago de Chile. \nEn esta edición tenemos un curso máster: \n\nCurso Máster AO Spine— Reparar lo Irreparable: Desafíos de Expertos en Trauma Espinal\, dirigido por el Dr. Manuel Valencia (Chile). Ver más información\n\nEl curso ha sido diseñado para fomentar el intercambio académico y fortalecer el desarrollo profesional de los participantes. Para conocer más detalles\, les invitamos a visitar la página con la información preliminar. \nCon aprecio y consideración\, \nIdaura Lobo Dias\nProject Manager Community Development\nRegion Latin America \n  \nAO Foundation | AO Global Networks\nAv. Silva Jardim\, 2042 cj 1505 | 80250-200 Curitiba | Brazil\nMobile: +55 41 99971 3332\nidaura.lobo@aofoundation.org | www.aofoundation.org
URL:https://www.neurocirugiachile.org/evento/ao-latin-america-regional-courses-2026/
CATEGORIES:Internacionales
ATTACH;FMTTYPE=image/png:https://www.neurocirugiachile.org/wp-content/uploads/2025/12/rsz_lighthouse_course_madrid_2019_mw30114.png
END:VEVENT
BEGIN:VEVENT
DTSTART;VALUE=DATE:20260901
DTEND;VALUE=DATE:20260903
DTSTAMP:20260423T135627
CREATED:20260304T205453Z
LAST-MODIFIED:20260304T205453Z
UID:5367-1788220800-1788393599@www.neurocirugiachile.org
SUMMARY:13th Annual EANS Vascular Section Meeting (Marseille\, France)
DESCRIPTION:Following the success of the previous annual meetings\, on behalf of the Committee Panel of the EANS Vascular Section we invite you to participate in the 13th Annual EANS Vascular Section Meeting\, which will take place in Marseille\, from Tuesday 1st to Wednesday 2nd of September 2026. \nCome and participate in a truly interdisciplinary platform for neurosurgeons\, neurointerventionalists\, neuroradiologists\, neurologists\, and others who are interested in the treatment of cerebrovascular diseases. \nOur aim is to offer scientific analysis of the highest quality within a friendly and collaborative atmosphere. \nThe meeting is being held in conjunction with the annual ESMINT Congress. Joint EANS/ESMINT sessions\, also featuring a number of prominent speakers from both Europe and the US\, will be organised again. \nWe encourage as many as possible of you to support and attend this joint meeting as well! \nTo provide a platform for as many as possible of our members to present their own work\, the majority of the programme will again be devoted to oral presentations of submitted abstracts and to plenary discussions. \nSubmissions on all aspects of vascular neurosurgery are now open!\nAbstract submission deadline: 5 April 2026. \nLearn more and submit your abstract \n 
URL:https://www.neurocirugiachile.org/evento/13th-annual-eans-vascular-section-meeting-marseille-france/
ATTACH;FMTTYPE=image/jpeg:https://www.neurocirugiachile.org/wp-content/uploads/2026/03/2026vascularwebMarseilleFrance-scaled.jpg
END:VEVENT
BEGIN:VEVENT
DTSTART;VALUE=DATE:20260930
DTEND;VALUE=DATE:20261005
DTSTAMP:20260423T135627
CREATED:20260122T210435Z
LAST-MODIFIED:20260122T210551Z
UID:5283-1790726400-1791158399@www.neurocirugiachile.org
SUMMARY:EANS2026 Congress (Hamburg\, Germany)
DESCRIPTION:The EANS Congress is the highlight and the largest event of the busy educational portfolio of the association. Attended by more than 2.000 neurosurgeons from Europe and all over the world\, the EANS Annual Congress is the main meeting point of the European Neurosurgical Community\, and the connecting link between European Neurosurgery and all continental neurosurgical societies. \nRotating in a different European city every year\, the EANS Congress presents the platform where original contemporary research is presented\, debated upon\, and celebrated. Each year the congress is organized under a different main theme\, as it explores all aspects of neurosurgery and its relation to those it serves. \nThe EANS Annual Congress is open to all neurosurgeons and neurosurgery related professionals\, from all levels of training\, that seek scientific and community development. It is considered as the event where research\, cooperation\, and solidarity are celebrated and enhanced between peers and restless individuals. It is a platform that promotes responsibility\, endurance and resilience among neurosurgeons\, which is also the moto of our 2026 congress. \nEANS2026 is officially on; and you are invited to join! \n\nLink here
URL:https://www.neurocirugiachile.org/evento/eans2026-congress-hamburg-germany/
CATEGORIES:Internacionales
ATTACH;FMTTYPE=image/jpeg:https://www.neurocirugiachile.org/wp-content/uploads/2026/01/EANSCongressHamburg2026-1.jpg
END:VEVENT
BEGIN:VEVENT
DTSTART;VALUE=DATE:20261118
DTEND;VALUE=DATE:20261123
DTSTAMP:20260423T135627
CREATED:20260316T191931Z
LAST-MODIFIED:20260316T191931Z
UID:5381-1794960000-1795391999@www.neurocirugiachile.org
SUMMARY:IMS-iRS Joint Meeting 2026 (Houston\, Texas)
DESCRIPTION:Link https://med.uth.edu/neurosurgery/ims-irs-joint-meeting-2026/
URL:https://www.neurocirugiachile.org/evento/ims-irs-joint-meeting-2026-houston-texas/
CATEGORIES:Internacionales
ATTACH;FMTTYPE=image/jpeg:https://www.neurocirugiachile.org/wp-content/uploads/2026/03/international-meningioma-society2026.jpeg
END:VEVENT
END:VCALENDAR